BEGIN:VCALENDAR
VERSION:2.0
PRODID:-//EBR Schools - ECPv6.15.20//NONSGML v1.0//EN
CALSCALE:GREGORIAN
METHOD:PUBLISH
X-WR-CALNAME:EBR Schools
X-ORIGINAL-URL:https://ebrschools.org
X-WR-CALDESC:Events for EBR Schools
REFRESH-INTERVAL;VALUE=DURATION:PT1H
X-Robots-Tag:noindex
X-PUBLISHED-TTL:PT1H
BEGIN:VTIMEZONE
TZID:America/Chicago
BEGIN:DAYLIGHT
TZOFFSETFROM:-0600
TZOFFSETTO:-0500
TZNAME:CDT
DTSTART:20250309T080000
END:DAYLIGHT
BEGIN:STANDARD
TZOFFSETFROM:-0500
TZOFFSETTO:-0600
TZNAME:CST
DTSTART:20251102T070000
END:STANDARD
BEGIN:DAYLIGHT
TZOFFSETFROM:-0600
TZOFFSETTO:-0500
TZNAME:CDT
DTSTART:20260308T080000
END:DAYLIGHT
BEGIN:STANDARD
TZOFFSETFROM:-0500
TZOFFSETTO:-0600
TZNAME:CST
DTSTART:20261101T070000
END:STANDARD
BEGIN:DAYLIGHT
TZOFFSETFROM:-0600
TZOFFSETTO:-0500
TZNAME:CDT
DTSTART:20270314T080000
END:DAYLIGHT
BEGIN:STANDARD
TZOFFSETFROM:-0500
TZOFFSETTO:-0600
TZNAME:CST
DTSTART:20271107T070000
END:STANDARD
END:VTIMEZONE
BEGIN:VEVENT
DTSTART;VALUE=DATE:20260518
DTEND;VALUE=DATE:20260523
DTSTAMP:20260423T142255
CREATED:20260423T153230Z
LAST-MODIFIED:20260423T153426Z
UID:85251-1779062400-1779494399@ebrschools.org
SUMMARY:2026 Graduation Schedule
DESCRIPTION:Congratulations to the East Baton Rouge Parish Schools Class of 2026 for reaching this incredible milestone! Graduation ceremonies are set to take place throughout the week of May 18–22\, 2026\, at Southern University\, LSU\, and Glen Oaks High. We are so proud of your hard work and can’t wait to celebrate your success as you walk across the stage! \nLinks to stream each ceremony are available on the PDF below. \nCLICK HERE FOR THE SCHEDULE
URL:https://ebrschools.org/event/2026-graduation-schedule/
CATEGORIES:Community Engagement,Events,Graduation Ceremonies
ATTACH;FMTTYPE=image/png:https://ebrschools.org/wp-content/uploads/2026/04/2026-Graduations-Web-Featured-Images-Calendar.png
END:VEVENT
END:VCALENDAR