BEGIN:VCALENDAR
VERSION:2.0
PRODID:-//EBR Schools - ECPv6.15.20//NONSGML v1.0//EN
CALSCALE:GREGORIAN
METHOD:PUBLISH
X-WR-CALNAME:EBR Schools
X-ORIGINAL-URL:https://ebrschools.org
X-WR-CALDESC:Events for EBR Schools
REFRESH-INTERVAL;VALUE=DURATION:PT1H
X-Robots-Tag:noindex
X-PUBLISHED-TTL:PT1H
BEGIN:VTIMEZONE
TZID:America/Chicago
BEGIN:DAYLIGHT
TZOFFSETFROM:-0600
TZOFFSETTO:-0500
TZNAME:CDT
DTSTART:20240310T080000
END:DAYLIGHT
BEGIN:STANDARD
TZOFFSETFROM:-0500
TZOFFSETTO:-0600
TZNAME:CST
DTSTART:20241103T070000
END:STANDARD
BEGIN:DAYLIGHT
TZOFFSETFROM:-0600
TZOFFSETTO:-0500
TZNAME:CDT
DTSTART:20250309T080000
END:DAYLIGHT
BEGIN:STANDARD
TZOFFSETFROM:-0500
TZOFFSETTO:-0600
TZNAME:CST
DTSTART:20251102T070000
END:STANDARD
BEGIN:DAYLIGHT
TZOFFSETFROM:-0600
TZOFFSETTO:-0500
TZNAME:CDT
DTSTART:20260308T080000
END:DAYLIGHT
BEGIN:STANDARD
TZOFFSETFROM:-0500
TZOFFSETTO:-0600
TZNAME:CST
DTSTART:20261101T070000
END:STANDARD
END:VTIMEZONE
BEGIN:VEVENT
DTSTART;VALUE=DATE:20250804
DTEND;VALUE=DATE:20250807
DTSTAMP:20260422T114957
CREATED:20250612T160228Z
LAST-MODIFIED:20250728T201416Z
UID:76980-1754265600-1754524799@ebrschools.org
SUMMARY:Professional Development
DESCRIPTION:Professional development for school employees*. No students in school. \n  \n*Employees please check with your immediate supervisor for additional information.
URL:https://ebrschools.org/event/all-employee-in-service-2526/
CATEGORIES:School Calendar
ATTACH;FMTTYPE=image/webp:https://ebrschools.org/wp-content/uploads/2025/06/Calendar-Feature_Professional-Development-2025.webp
END:VEVENT
END:VCALENDAR