BEGIN:VCALENDAR
VERSION:2.0
PRODID:-//EBR Schools - ECPv6.15.20//NONSGML v1.0//EN
CALSCALE:GREGORIAN
METHOD:PUBLISH
X-WR-CALNAME:EBR Schools
X-ORIGINAL-URL:https://ebrschools.org
X-WR-CALDESC:Events for EBR Schools
REFRESH-INTERVAL;VALUE=DURATION:PT1H
X-Robots-Tag:noindex
X-PUBLISHED-TTL:PT1H
BEGIN:VTIMEZONE
TZID:America/Chicago
BEGIN:DAYLIGHT
TZOFFSETFROM:-0600
TZOFFSETTO:-0500
TZNAME:CDT
DTSTART:20250309T080000
END:DAYLIGHT
BEGIN:STANDARD
TZOFFSETFROM:-0500
TZOFFSETTO:-0600
TZNAME:CST
DTSTART:20251102T070000
END:STANDARD
BEGIN:DAYLIGHT
TZOFFSETFROM:-0600
TZOFFSETTO:-0500
TZNAME:CDT
DTSTART:20260308T080000
END:DAYLIGHT
BEGIN:STANDARD
TZOFFSETFROM:-0500
TZOFFSETTO:-0600
TZNAME:CST
DTSTART:20261101T070000
END:STANDARD
BEGIN:DAYLIGHT
TZOFFSETFROM:-0600
TZOFFSETTO:-0500
TZNAME:CDT
DTSTART:20270314T080000
END:DAYLIGHT
BEGIN:STANDARD
TZOFFSETFROM:-0500
TZOFFSETTO:-0600
TZNAME:CST
DTSTART:20271107T070000
END:STANDARD
END:VTIMEZONE
BEGIN:VEVENT
DTSTART;TZID=America/Chicago:20260430T090000
DTEND;TZID=America/Chicago:20260430T130000
DTSTAMP:20260422T132711
CREATED:20260422T140728Z
LAST-MODIFIED:20260422T140728Z
UID:85111-1777539600-1777554000@ebrschools.org
SUMMARY:City of Baton Rouge Job Fair
DESCRIPTION:Join us for a job fair for EBR Schools and the City of Baton Rouge! Discover careers in education\, explore city government opportunities\, and connect with Greater Baton Rouge employers. \nDownload the flyer here. 
URL:https://ebrschools.org/event/city-of-baton-rouge-job-fair/
LOCATION:Raising Cane’s River Center\, 275 S. River Road\, Baton Rouge\, Louisiana\, 70802
CATEGORIES:Community Engagement,Recruitment and Retention
ATTACH;FMTTYPE=image/png:https://ebrschools.org/wp-content/uploads/2026/04/HR-Job-Fair-Calendar-Feature.png
END:VEVENT
END:VCALENDAR