BEGIN:VCALENDAR
VERSION:2.0
PRODID:-//EBR Schools - ECPv6.15.20//NONSGML v1.0//EN
CALSCALE:GREGORIAN
METHOD:PUBLISH
X-ORIGINAL-URL:https://ebrschools.org
X-WR-CALDESC:Events for EBR Schools
REFRESH-INTERVAL;VALUE=DURATION:PT1H
X-Robots-Tag:noindex
X-PUBLISHED-TTL:PT1H
BEGIN:VTIMEZONE
TZID:America/Chicago
BEGIN:DAYLIGHT
TZOFFSETFROM:-0600
TZOFFSETTO:-0500
TZNAME:CDT
DTSTART:20250309T080000
END:DAYLIGHT
BEGIN:STANDARD
TZOFFSETFROM:-0500
TZOFFSETTO:-0600
TZNAME:CST
DTSTART:20251102T070000
END:STANDARD
BEGIN:DAYLIGHT
TZOFFSETFROM:-0600
TZOFFSETTO:-0500
TZNAME:CDT
DTSTART:20260308T080000
END:DAYLIGHT
BEGIN:STANDARD
TZOFFSETFROM:-0500
TZOFFSETTO:-0600
TZNAME:CST
DTSTART:20261101T070000
END:STANDARD
BEGIN:DAYLIGHT
TZOFFSETFROM:-0600
TZOFFSETTO:-0500
TZNAME:CDT
DTSTART:20270314T080000
END:DAYLIGHT
BEGIN:STANDARD
TZOFFSETFROM:-0500
TZOFFSETTO:-0600
TZNAME:CST
DTSTART:20271107T070000
END:STANDARD
END:VTIMEZONE
BEGIN:VEVENT
DTSTART;TZID=America/Chicago:20260421T100000
DTEND;TZID=America/Chicago:20260421T113000
DTSTAMP:20260421T053208
CREATED:20260223T171012Z
LAST-MODIFIED:20260223T171012Z
UID:10001116-1776765600-1776771000@ebrschools.org
SUMMARY:Substitute Teacher Hiring Event
DESCRIPTION:Please join us for a substitute teacher hiring event at the Central Office Board Room. We are looking for substitute teachers who are eager to work with students. Please pre-apply at ebrschools.org/careers by submitting the following documents: \n\nUpdated professional resume\nTwo professional references\nHigh school diploma and/or official college transcript\nTeaching certificate (if applicable)
URL:https://ebrschools.org/event/substitute-teacher-hiring-event-4/2026-04-21/
LOCATION:Board Meeting Room\, 1050 South Foster Drive\, Baton Rouge\, LA\, 70806\, United States
CATEGORIES:Recruitment and Retention
ATTACH;FMTTYPE=image/webp:https://ebrschools.org/wp-content/uploads/2025/11/HR_Sub-Hiring-Event.webp
END:VEVENT
BEGIN:VEVENT
DTSTART;TZID=America/Chicago:20260428T100000
DTEND;TZID=America/Chicago:20260428T113000
DTSTAMP:20260421T053208
CREATED:20260223T171012Z
LAST-MODIFIED:20260223T171012Z
UID:10001117-1777370400-1777375800@ebrschools.org
SUMMARY:Substitute Teacher Hiring Event
DESCRIPTION:Please join us for a substitute teacher hiring event at the Central Office Board Room. We are looking for substitute teachers who are eager to work with students. Please pre-apply at ebrschools.org/careers by submitting the following documents: \n\nUpdated professional resume\nTwo professional references\nHigh school diploma and/or official college transcript\nTeaching certificate (if applicable)
URL:https://ebrschools.org/event/substitute-teacher-hiring-event-4/2026-04-28/
LOCATION:Board Meeting Room\, 1050 South Foster Drive\, Baton Rouge\, LA\, 70806\, United States
CATEGORIES:Recruitment and Retention
ATTACH;FMTTYPE=image/webp:https://ebrschools.org/wp-content/uploads/2025/11/HR_Sub-Hiring-Event.webp
END:VEVENT
BEGIN:VEVENT
DTSTART;TZID=America/Chicago:20260507T170000
DTEND;TZID=America/Chicago:20260507T210000
DTSTAMP:20260421T053208
CREATED:20250612T162214Z
LAST-MODIFIED:20260129T162345Z
UID:10001038-1778173200-1778187600@ebrschools.org
SUMMARY:Committee of the Whole
DESCRIPTION:The Committee of the Whole to be held at 5:00PM in the Central Office Board Room.
URL:https://ebrschools.org/event/committee-of-the-whole-2526/2026-05-07/
LOCATION:Board Meeting Room\, 1050 South Foster Drive\, Baton Rouge\, LA\, 70806\, United States
CATEGORIES:School Board
ATTACH;FMTTYPE=image/webp:https://ebrschools.org/wp-content/uploads/2025/06/25-26-Cal-Feature-Committee-of-the-Whole.webp
END:VEVENT
BEGIN:VEVENT
DTSTART;TZID=America/Chicago:20260514T170000
DTEND;TZID=America/Chicago:20260514T210000
DTSTAMP:20260421T053208
CREATED:20260417T133437Z
LAST-MODIFIED:20260417T133437Z
UID:10001050-1778778000-1778792400@ebrschools.org
SUMMARY:Board Meeting - Rescheduled
DESCRIPTION:This meeting was rescheduled from May 21\, 2026 to May 14\, 2026.  \nBoard meetings will be streamed live via YouTube. The link to watch the meeting can also be found on BoardDocs  (http://%28https/go.boarddocs.com/la/ebrp/Board.nsf/Public) or on the School Board’s website (https://ebrschools.org/about/). \nA period for written public comment will be provided before the meeting as well as before each action is taken by the Board on an action item. Individuals wishing to make a public comment about any of the posted action items will need to click on the agenda item in BoardDocs\, and submit via the highlighted public comment hyperlink on the agenda item details. Online comments are available for public review. \nRecognitions will be held at 4:00 pm prior to the regular board meetings.
URL:https://ebrschools.org/event/board-meeting-3-3/
LOCATION:Board Meeting Room\, 1050 South Foster Drive\, Baton Rouge\, LA\, 70806\, United States
CATEGORIES:School Board
ATTACH;FMTTYPE=image/webp:https://ebrschools.org/wp-content/uploads/2025/06/25-26-Cal-Feature-Board-Meeting.webp
END:VEVENT
BEGIN:VEVENT
DTSTART;TZID=America/Chicago:20260604T170000
DTEND;TZID=America/Chicago:20260604T210000
DTSTAMP:20260421T053208
CREATED:20250612T162214Z
LAST-MODIFIED:20260129T162345Z
UID:10001039-1780592400-1780606800@ebrschools.org
SUMMARY:Committee of the Whole
DESCRIPTION:The Committee of the Whole to be held at 5:00PM in the Central Office Board Room.
URL:https://ebrschools.org/event/committee-of-the-whole-2526/2026-06-04/
LOCATION:Board Meeting Room\, 1050 South Foster Drive\, Baton Rouge\, LA\, 70806\, United States
CATEGORIES:School Board
ATTACH;FMTTYPE=image/webp:https://ebrschools.org/wp-content/uploads/2025/06/25-26-Cal-Feature-Committee-of-the-Whole.webp
END:VEVENT
BEGIN:VEVENT
DTSTART;TZID=America/Chicago:20260611T170000
DTEND;TZID=America/Chicago:20260611T210000
DTSTAMP:20260421T053208
CREATED:20250612T163611Z
LAST-MODIFIED:20260129T162427Z
UID:10001051-1781197200-1781211600@ebrschools.org
SUMMARY:Board Meeting
DESCRIPTION:Board meetings will be streamed live via YouTube. The link to watch the meeting can also be found on BoardDocs  (http://%28https/go.boarddocs.com/la/ebrp/Board.nsf/Public) or on the School Board’s website (https://ebrschools.org/about/). \nA period for written public comment will be provided before the meeting as well as before each action is taken by the Board on an action item. Individuals wishing to make a public comment about any of the posted action items will need to click on the agenda item in BoardDocs\, and submit via the highlighted public comment hyperlink on the agenda item details. Online comments are available for public review. \nRecognitions will be held at 4:00 pm prior to the regular board meetings.
URL:https://ebrschools.org/event/board-meeting-3/2026-06-11/
LOCATION:Board Meeting Room\, 1050 South Foster Drive\, Baton Rouge\, LA\, 70806\, United States
CATEGORIES:School Board
ATTACH;FMTTYPE=image/webp:https://ebrschools.org/wp-content/uploads/2025/06/25-26-Cal-Feature-Board-Meeting.webp
END:VEVENT
END:VCALENDAR