BEGIN:VCALENDAR
VERSION:2.0
PRODID:-//EBR Schools - ECPv6.15.20//NONSGML v1.0//EN
CALSCALE:GREGORIAN
METHOD:PUBLISH
X-ORIGINAL-URL:https://ebrschools.org
X-WR-CALDESC:Events for EBR Schools
REFRESH-INTERVAL;VALUE=DURATION:PT1H
X-Robots-Tag:noindex
X-PUBLISHED-TTL:PT1H
BEGIN:VTIMEZONE
TZID:America/Chicago
BEGIN:DAYLIGHT
TZOFFSETFROM:-0600
TZOFFSETTO:-0500
TZNAME:CDT
DTSTART:20210314T080000
END:DAYLIGHT
BEGIN:STANDARD
TZOFFSETFROM:-0500
TZOFFSETTO:-0600
TZNAME:CST
DTSTART:20211107T070000
END:STANDARD
BEGIN:DAYLIGHT
TZOFFSETFROM:-0600
TZOFFSETTO:-0500
TZNAME:CDT
DTSTART:20220313T080000
END:DAYLIGHT
BEGIN:STANDARD
TZOFFSETFROM:-0500
TZOFFSETTO:-0600
TZNAME:CST
DTSTART:20221106T070000
END:STANDARD
BEGIN:DAYLIGHT
TZOFFSETFROM:-0600
TZOFFSETTO:-0500
TZNAME:CDT
DTSTART:20230312T080000
END:DAYLIGHT
BEGIN:STANDARD
TZOFFSETFROM:-0500
TZOFFSETTO:-0600
TZNAME:CST
DTSTART:20231105T070000
END:STANDARD
END:VTIMEZONE
BEGIN:VEVENT
DTSTART;TZID=America/Chicago:20221006T170000
DTEND;TZID=America/Chicago:20221006T210000
DTSTAMP:20260422T010205
CREATED:20220601T132846Z
LAST-MODIFIED:20230607T154816Z
UID:10000555-1665075600-1665090000@ebrschools.org
SUMMARY:Committee of the Whole Meeting
DESCRIPTION:
URL:https://ebrschools.org/event/committee-of-the-whole-meeting-2022-08-04/2022-10-06/
LOCATION:Board Meeting Room\, 1050 South Foster Drive\, Baton Rouge\, LA\, 70806\, United States
CATEGORIES:School Board
END:VEVENT
BEGIN:VEVENT
DTSTART;TZID=America/Chicago:20220915T170000
DTEND;TZID=America/Chicago:20220915T210000
DTSTAMP:20260422T010205
CREATED:20220601T131145Z
LAST-MODIFIED:20240619T215301Z
UID:10000542-1663261200-1663275600@ebrschools.org
SUMMARY:Board Meeting
DESCRIPTION:Board meetings will be streamed live via YouTube. The link to watch the meeting can also be found on [http://%28https/go.boarddocs.com/la/ebrp/Board.nsf/Public]BoardDocs or on the School Board’s website (https://ebrschools.org/about/). \nA period for written public comment will be provided before the meeting as well as before each action is taken by the Board on an action item. Individuals wishing to make a public comment about any of the posted action items will need to click on the agenda item in BoardDocs\, and submit via the highlighted public comment hyperlink on the agenda item details. Online comments are available for public review. \nRecognitions will be held at 4:00 pm prior to the regular board meetings.
URL:https://ebrschools.org/event/board-meeting-2/2022-09-15/
LOCATION:Board Meeting Room\, 1050 South Foster Drive\, Baton Rouge\, LA\, 70806\, United States
CATEGORIES:School Board
ATTACH;FMTTYPE=image/png:https://ebrschools.org/wp-content/uploads/2024/06/Cal-Feature-School-Board-Meeting.png
END:VEVENT
BEGIN:VEVENT
DTSTART;TZID=America/Chicago:20220908T170000
DTEND;TZID=America/Chicago:20220908T210000
DTSTAMP:20260422T010205
CREATED:20220601T132846Z
LAST-MODIFIED:20230607T154816Z
UID:10000592-1662656400-1662670800@ebrschools.org
SUMMARY:Committee of the Whole Meeting
DESCRIPTION:
URL:https://ebrschools.org/event/committee-of-the-whole-meeting-2022-08-04/2022-09-08/
LOCATION:Board Meeting Room\, 1050 South Foster Drive\, Baton Rouge\, LA\, 70806\, United States
CATEGORIES:School Board
END:VEVENT
BEGIN:VEVENT
DTSTART;TZID=America/Chicago:20220901T170000
DTEND;TZID=America/Chicago:20220901T190000
DTSTAMP:20260422T010205
CREATED:20220826T190605Z
LAST-MODIFIED:20220908T152506Z
UID:10000588-1662051600-1662058800@ebrschools.org
SUMMARY:Board Workshop
DESCRIPTION:
URL:https://ebrschools.org/event/board-workshop/
LOCATION:Board Meeting Room\, 1050 South Foster Drive\, Baton Rouge\, LA\, 70806\, United States
CATEGORIES:School Board
END:VEVENT
BEGIN:VEVENT
DTSTART;TZID=America/Chicago:20220818T170000
DTEND;TZID=America/Chicago:20220818T210000
DTSTAMP:20260422T010205
CREATED:20220601T131145Z
LAST-MODIFIED:20240619T215301Z
UID:10000541-1660842000-1660856400@ebrschools.org
SUMMARY:Board Meeting
DESCRIPTION:Board meetings will be streamed live via YouTube. The link to watch the meeting can also be found on [http://%28https/go.boarddocs.com/la/ebrp/Board.nsf/Public]BoardDocs or on the School Board’s website (https://ebrschools.org/about/). \nA period for written public comment will be provided before the meeting as well as before each action is taken by the Board on an action item. Individuals wishing to make a public comment about any of the posted action items will need to click on the agenda item in BoardDocs\, and submit via the highlighted public comment hyperlink on the agenda item details. Online comments are available for public review. \nRecognitions will be held at 4:00 pm prior to the regular board meetings.
URL:https://ebrschools.org/event/board-meeting-2/2022-08-18/
LOCATION:Board Meeting Room\, 1050 South Foster Drive\, Baton Rouge\, LA\, 70806\, United States
CATEGORIES:School Board
ATTACH;FMTTYPE=image/png:https://ebrschools.org/wp-content/uploads/2024/06/Cal-Feature-School-Board-Meeting.png
END:VEVENT
BEGIN:VEVENT
DTSTART;TZID=America/Chicago:20220804T170000
DTEND;TZID=America/Chicago:20220804T210000
DTSTAMP:20260422T010205
CREATED:20220601T132846Z
LAST-MODIFIED:20230607T154816Z
UID:10000553-1659632400-1659646800@ebrschools.org
SUMMARY:Committee of the Whole Meeting
DESCRIPTION:
URL:https://ebrschools.org/event/committee-of-the-whole-meeting-2022-08-04/2022-08-04/
LOCATION:Board Meeting Room\, 1050 South Foster Drive\, Baton Rouge\, LA\, 70806\, United States
CATEGORIES:School Board
END:VEVENT
BEGIN:VEVENT
DTSTART;TZID=America/Chicago:20220721T170000
DTEND;TZID=America/Chicago:20220721T210000
DTSTAMP:20260422T010205
CREATED:20220601T131145Z
LAST-MODIFIED:20240619T215301Z
UID:10000540-1658422800-1658437200@ebrschools.org
SUMMARY:Board Meeting
DESCRIPTION:Board meetings will be streamed live via YouTube. The link to watch the meeting can also be found on [http://%28https/go.boarddocs.com/la/ebrp/Board.nsf/Public]BoardDocs or on the School Board’s website (https://ebrschools.org/about/). \nA period for written public comment will be provided before the meeting as well as before each action is taken by the Board on an action item. Individuals wishing to make a public comment about any of the posted action items will need to click on the agenda item in BoardDocs\, and submit via the highlighted public comment hyperlink on the agenda item details. Online comments are available for public review. \nRecognitions will be held at 4:00 pm prior to the regular board meetings.
URL:https://ebrschools.org/event/board-meeting-2/2022-07-21/
LOCATION:Board Meeting Room\, 1050 South Foster Drive\, Baton Rouge\, LA\, 70806\, United States
CATEGORIES:School Board
ATTACH;FMTTYPE=image/png:https://ebrschools.org/wp-content/uploads/2024/06/Cal-Feature-School-Board-Meeting.png
END:VEVENT
BEGIN:VEVENT
DTSTART;TZID=America/Chicago:20220714T170300
DTEND;TZID=America/Chicago:20220714T170300
DTSTAMP:20260422T010205
CREATED:20220601T132846Z
LAST-MODIFIED:20220908T142719Z
UID:10000552-1657818180-1657818180@ebrschools.org
SUMMARY:TO IMMEDIATELY FOLLOW the Special Meeting - Committee of the Whole Meeting
DESCRIPTION:
URL:https://ebrschools.org/event/committee-of-the-whole-meeting/
LOCATION:Board Meeting Room\, 1050 South Foster Drive\, Baton Rouge\, LA\, 70806\, United States
CATEGORIES:School Board
END:VEVENT
BEGIN:VEVENT
DTSTART;TZID=America/Chicago:20220714T170200
DTEND;TZID=America/Chicago:20220714T170200
DTSTAMP:20260422T010205
CREATED:20220628T161244Z
LAST-MODIFIED:20220908T142731Z
UID:10000568-1657818120-1657818120@ebrschools.org
SUMMARY:TO IMMEDIATELY FOLLOW the Special Meeting: 2022-2023 Budgets - Special Meeting
DESCRIPTION:
URL:https://ebrschools.org/event/special-meeting-to-immediately-follow-the-special-meeting-2022-2023-budgets/
LOCATION:Board Meeting Room\, 1050 South Foster Drive\, Baton Rouge\, LA\, 70806\, United States
CATEGORIES:School Board
END:VEVENT
BEGIN:VEVENT
DTSTART;TZID=America/Chicago:20220714T170100
DTEND;TZID=America/Chicago:20220714T170100
DTSTAMP:20260422T010205
CREATED:20220628T154343Z
LAST-MODIFIED:20220908T142747Z
UID:10000567-1657818060-1657818060@ebrschools.org
SUMMARY:TO IMMEDIATELY FOLLOW the Public Hearing/Board Workshop - Special Meeting: 2022-2023 Budgets
DESCRIPTION:
URL:https://ebrschools.org/event/special-meeting-2022-2023-budgets-to-immediately-follow-the-public-hearing-board-workshop/
LOCATION:Board Meeting Room\, 1050 South Foster Drive\, Baton Rouge\, LA\, 70806\, United States
CATEGORIES:School Board
END:VEVENT
BEGIN:VEVENT
DTSTART;TZID=America/Chicago:20220714T170000
DTEND;TZID=America/Chicago:20220714T170000
DTSTAMP:20260422T010205
CREATED:20220628T154248Z
LAST-MODIFIED:20220908T142800Z
UID:10000566-1657818000-1657818000@ebrschools.org
SUMMARY:Public Hearing/Board Workshop
DESCRIPTION:
URL:https://ebrschools.org/event/public-hearing-board-workshop-2/
LOCATION:Board Meeting Room\, 1050 South Foster Drive\, Baton Rouge\, LA\, 70806\, United States
CATEGORIES:School Board
END:VEVENT
BEGIN:VEVENT
DTSTART;TZID=America/Chicago:20220713T163000
DTEND;TZID=America/Chicago:20220713T183000
DTSTAMP:20260422T010205
CREATED:20220628T154025Z
LAST-MODIFIED:20220908T142847Z
UID:10000565-1657729800-1657737000@ebrschools.org
SUMMARY:Public Forum (Unofficial Meeting of the Board: 2022-2023 Budget)
DESCRIPTION:
URL:https://ebrschools.org/event/public-forum-unofficial-meeting-of-the-board-2022-2023-budget/
LOCATION:Board Meeting Room\, 1050 South Foster Drive\, Baton Rouge\, LA\, 70806\, United States
CATEGORIES:School Board
END:VEVENT
BEGIN:VEVENT
DTSTART;TZID=America/Chicago:20220616T170000
DTEND;TZID=America/Chicago:20220616T173000
DTSTAMP:20260422T010205
CREATED:20220125T011614Z
LAST-MODIFIED:20220908T152244Z
UID:10000517-1655398800-1655400600@ebrschools.org
SUMMARY:Board Meeting
DESCRIPTION:Board meetings will be streamed live via YouTube. The link to watch the meeting can also be found on [http://%28https/go.boarddocs.com/la/ebrp/Board.nsf/Public]BoardDocs or on the School Board’s website (https://ebrschools.org/about/). \nA period for written public comment will be provided before the meeting as well as before each action is taken by the Board on an action item. Individuals wishing to make a public comment about any of the posted action items will need to click on the agenda item in BoardDocs\, and submit via the highlighted public comment hyperlink on the agenda item details. Online comments are available for public review (Click here).
URL:https://ebrschools.org/event/board-meeting/2022-06-16/
LOCATION:Board Meeting Room\, 1050 South Foster Drive\, Baton Rouge\, LA\, 70806\, United States
END:VEVENT
BEGIN:VEVENT
DTSTART;TZID=America/Chicago:20220609T170000
DTEND;TZID=America/Chicago:20220609T173000
DTSTAMP:20260422T010205
CREATED:20220607T114017Z
LAST-MODIFIED:20220908T143740Z
UID:10000564-1654794000-1654795800@ebrschools.org
SUMMARY:Special Meeting
DESCRIPTION:
URL:https://ebrschools.org/event/special-meeting-3/
LOCATION:Board Meeting Room\, 1050 South Foster Drive\, Baton Rouge\, LA\, 70806\, United States
END:VEVENT
BEGIN:VEVENT
DTSTART;TZID=America/Chicago:20220602T171500
DTEND;TZID=America/Chicago:20220602T173000
DTSTAMP:20260422T010205
CREATED:20210616T171714Z
LAST-MODIFIED:20220908T144031Z
UID:10000449-1654190100-1654191000@ebrschools.org
SUMMARY:Committee of the Whole Meeting - to Immediately follow the Public Hearing/Board Workshop
DESCRIPTION:
URL:https://ebrschools.org/event/monthly-committee-of-the-whole-meeting-5-2022-06-02/
LOCATION:Board Meeting Room\, 1050 South Foster Drive\, Baton Rouge\, LA\, 70806\, United States
END:VEVENT
BEGIN:VEVENT
DTSTART;TZID=America/Chicago:20220602T170000
DTEND;TZID=America/Chicago:20220602T170000
DTSTAMP:20260422T010205
CREATED:20220523T160822Z
LAST-MODIFIED:20220908T144046Z
UID:10000539-1654189200-1654189200@ebrschools.org
SUMMARY:Public Hearing/Board Workshop
DESCRIPTION:
URL:https://ebrschools.org/event/public-hearing-board-workshop/
LOCATION:Board Meeting Room\, 1050 South Foster Drive\, Baton Rouge\, LA\, 70806\, United States
END:VEVENT
BEGIN:VEVENT
DTSTART;TZID=America/Chicago:20220519T170000
DTEND;TZID=America/Chicago:20220519T173000
DTSTAMP:20260422T010205
CREATED:20220125T011614Z
LAST-MODIFIED:20220908T152244Z
UID:10000516-1652979600-1652981400@ebrschools.org
SUMMARY:Board Meeting
DESCRIPTION:Board meetings will be streamed live via YouTube. The link to watch the meeting can also be found on [http://%28https/go.boarddocs.com/la/ebrp/Board.nsf/Public]BoardDocs or on the School Board’s website (https://ebrschools.org/about/). \nA period for written public comment will be provided before the meeting as well as before each action is taken by the Board on an action item. Individuals wishing to make a public comment about any of the posted action items will need to click on the agenda item in BoardDocs\, and submit via the highlighted public comment hyperlink on the agenda item details. Online comments are available for public review (Click here).
URL:https://ebrschools.org/event/board-meeting/2022-05-19/
LOCATION:Board Meeting Room\, 1050 South Foster Drive\, Baton Rouge\, LA\, 70806\, United States
END:VEVENT
BEGIN:VEVENT
DTSTART;TZID=America/Chicago:20220505T173000
DTEND;TZID=America/Chicago:20220505T173000
DTSTAMP:20260422T010205
CREATED:20210616T171714Z
LAST-MODIFIED:20220420T120344Z
UID:10000448-1651771800-1651771800@ebrschools.org
SUMMARY:Committee of the Whole Meeting - to Immediately Follow the Special Meeting
DESCRIPTION:
URL:https://ebrschools.org/event/monthly-committee-of-the-whole-meeting-5-2022-05-05/
LOCATION:Board Meeting Room\, 1050 South Foster Drive\, Baton Rouge\, LA\, 70806\, United States
END:VEVENT
BEGIN:VEVENT
DTSTART;TZID=America/Chicago:20220505T171500
DTEND;TZID=America/Chicago:20220505T173000
DTSTAMP:20260422T010205
CREATED:20220409T000130Z
LAST-MODIFIED:20220908T144513Z
UID:10000535-1651770900-1651771800@ebrschools.org
SUMMARY:Special Meeting-Approval/Adoption of Redistricting Plan - to Immediately Follow the Public Hearing
DESCRIPTION:
URL:https://ebrschools.org/event/special-meeting-approval-adoption-of-redistricting-plan-to-immediately-follow-the-public-hearing/
LOCATION:Board Meeting Room\, 1050 South Foster Drive\, Baton Rouge\, LA\, 70806\, United States
END:VEVENT
BEGIN:VEVENT
DTSTART;TZID=America/Chicago:20220505T170000
DTEND;TZID=America/Chicago:20220505T173000
DTSTAMP:20260422T010205
CREATED:20220409T000021Z
LAST-MODIFIED:20220908T144850Z
UID:10000534-1651770000-1651771800@ebrschools.org
SUMMARY:Public Hearing (Redistricting)
DESCRIPTION:
URL:https://ebrschools.org/event/public-hearing-redistricting-3/
LOCATION:Board Meeting Room\, 1050 South Foster Drive\, Baton Rouge\, LA\, 70806\, United States
END:VEVENT
BEGIN:VEVENT
DTSTART;TZID=America/Chicago:20220502T170000
DTEND;TZID=America/Chicago:20220502T173000
DTSTAMP:20260422T010205
CREATED:20220420T161951Z
LAST-MODIFIED:20220908T151407Z
UID:10000536-1651510800-1651512600@ebrschools.org
SUMMARY:Oversight Committee Meeting
DESCRIPTION:Some or all Board Members may attend.
URL:https://ebrschools.org/event/oversight-committee-meeting/
LOCATION:Board Meeting Room\, 1050 South Foster Drive\, Baton Rouge\, LA\, 70806\, United States
END:VEVENT
BEGIN:VEVENT
DTSTART;TZID=America/Chicago:20220421T171500
DTEND;TZID=America/Chicago:20220421T173000
DTSTAMP:20260422T010205
CREATED:20220125T011614Z
LAST-MODIFIED:20220908T151420Z
UID:10000518-1650561300-1650562200@ebrschools.org
SUMMARY:Board Meeting - to Immediately Follow the Public Hearing
DESCRIPTION:Board meetings will be streamed live via YouTube. The link to watch the meeting can also be found on [http://%28https/go.boarddocs.com/la/ebrp/Board.nsf/Public]BoardDocs or on the School Board’s website (https://ebrschools.org/about/). \nA period for written public comment will be provided before the meeting as well as before each action is taken by the Board on an action item. Individuals wishing to make a public comment about any of the posted action items will need to click on the agenda item in BoardDocs\, and submit via the highlighted public comment hyperlink on the agenda item details. Online comments are available for public review (Click here).
URL:https://ebrschools.org/event/board-meeting-2022-04-21/
LOCATION:Board Meeting Room\, 1050 South Foster Drive\, Baton Rouge\, LA\, 70806\, United States
END:VEVENT
BEGIN:VEVENT
DTSTART;TZID=America/Chicago:20220421T170000
DTEND;TZID=America/Chicago:20220421T173000
DTSTAMP:20260422T010205
CREATED:20220408T235938Z
LAST-MODIFIED:20220908T151436Z
UID:10000533-1650560400-1650562200@ebrschools.org
SUMMARY:Public Hearing (Redistricting)
DESCRIPTION:
URL:https://ebrschools.org/event/public-hearing-redistricting-2/
LOCATION:Board Meeting Room\, 1050 South Foster Drive\, Baton Rouge\, LA\, 70806\, United States
END:VEVENT
BEGIN:VEVENT
DTSTART;TZID=America/Chicago:20220407T170000
DTEND;TZID=America/Chicago:20220407T173000
DTSTAMP:20260422T010205
CREATED:20220331T204132Z
LAST-MODIFIED:20220908T151507Z
UID:10000532-1649350800-1649352600@ebrschools.org
SUMMARY:Public Hearing (Redistricting) - to immediately follow the Special Meeting for Redistricting
DESCRIPTION:
URL:https://ebrschools.org/event/public-hearing-redistricting/
LOCATION:Board Meeting Room\, 1050 South Foster Drive\, Baton Rouge\, LA\, 70806\, United States
END:VEVENT
BEGIN:VEVENT
DTSTART;TZID=America/Chicago:20220407T170000
DTEND;TZID=America/Chicago:20220407T173000
DTSTAMP:20260422T010205
CREATED:20220308T051309Z
LAST-MODIFIED:20220908T151452Z
UID:10000530-1649350800-1649352600@ebrschools.org
SUMMARY:Special Meeting for Redistricting
DESCRIPTION:This meeting was postponed from March 30\, 2022 due to inclement weather.
URL:https://ebrschools.org/event/special-meeting-2/
LOCATION:Board Meeting Room\, 1050 South Foster Drive\, Baton Rouge\, LA\, 70806\, United States
END:VEVENT
BEGIN:VEVENT
DTSTART;TZID=America/Chicago:20220407T170000
DTEND;TZID=America/Chicago:20220407T170000
DTSTAMP:20260422T010205
CREATED:20210616T171714Z
LAST-MODIFIED:20220331T204323Z
UID:10000447-1649350800-1649350800@ebrschools.org
SUMMARY:Committee of the Whole Meeting - to immediately follow the Public Hearing (Redistricting)
DESCRIPTION:
URL:https://ebrschools.org/event/monthly-committee-of-the-whole-meeting-5-2022-04-07/
LOCATION:Board Meeting Room\, 1050 South Foster Drive\, Baton Rouge\, LA\, 70806\, United States
END:VEVENT
BEGIN:VEVENT
DTSTART;TZID=America/Chicago:20220317T170000
DTEND;TZID=America/Chicago:20220317T173000
DTSTAMP:20260422T010205
CREATED:20220125T011614Z
LAST-MODIFIED:20220908T152244Z
UID:10000515-1647536400-1647538200@ebrschools.org
SUMMARY:Board Meeting
DESCRIPTION:Board meetings will be streamed live via YouTube. The link to watch the meeting can also be found on [http://%28https/go.boarddocs.com/la/ebrp/Board.nsf/Public]BoardDocs or on the School Board’s website (https://ebrschools.org/about/). \nA period for written public comment will be provided before the meeting as well as before each action is taken by the Board on an action item. Individuals wishing to make a public comment about any of the posted action items will need to click on the agenda item in BoardDocs\, and submit via the highlighted public comment hyperlink on the agenda item details. Online comments are available for public review (Click here).
URL:https://ebrschools.org/event/board-meeting/2022-03-17/
LOCATION:Board Meeting Room\, 1050 South Foster Drive\, Baton Rouge\, LA\, 70806\, United States
END:VEVENT
BEGIN:VEVENT
DTSTART;TZID=America/Chicago:20220303T170000
DTEND;TZID=America/Chicago:20220303T173000
DTSTAMP:20260422T010205
CREATED:20220222T163330Z
LAST-MODIFIED:20220908T152134Z
UID:10000527-1646326800-1646328600@ebrschools.org
SUMMARY:Special Meeting
DESCRIPTION:
URL:https://ebrschools.org/event/special-meeting/
LOCATION:Board Meeting Room\, 1050 South Foster Drive\, Baton Rouge\, LA\, 70806\, United States
END:VEVENT
BEGIN:VEVENT
DTSTART;TZID=America/Chicago:20220303T170000
DTEND;TZID=America/Chicago:20220303T173000
DTSTAMP:20260422T010205
CREATED:20210616T171714Z
LAST-MODIFIED:20220908T152119Z
UID:10000446-1646326800-1646328600@ebrschools.org
SUMMARY:Committee of the Whole Meeting
DESCRIPTION:This meeting will begin immediately after the Special Meeting at 5:00pm.
URL:https://ebrschools.org/event/monthly-committee-of-the-whole-meeting-5-2022-03-03/
LOCATION:Board Meeting Room\, 1050 South Foster Drive\, Baton Rouge\, LA\, 70806\, United States
END:VEVENT
BEGIN:VEVENT
DTSTART;TZID=America/Chicago:20220217T170000
DTEND;TZID=America/Chicago:20220217T173000
DTSTAMP:20260422T010205
CREATED:20220125T011614Z
LAST-MODIFIED:20220908T152244Z
UID:10000514-1645117200-1645119000@ebrschools.org
SUMMARY:Board Meeting
DESCRIPTION:Board meetings will be streamed live via YouTube. The link to watch the meeting can also be found on [http://%28https/go.boarddocs.com/la/ebrp/Board.nsf/Public]BoardDocs or on the School Board’s website (https://ebrschools.org/about/). \nA period for written public comment will be provided before the meeting as well as before each action is taken by the Board on an action item. Individuals wishing to make a public comment about any of the posted action items will need to click on the agenda item in BoardDocs\, and submit via the highlighted public comment hyperlink on the agenda item details. Online comments are available for public review (Click here).
URL:https://ebrschools.org/event/board-meeting/2022-02-17/
LOCATION:Board Meeting Room\, 1050 South Foster Drive\, Baton Rouge\, LA\, 70806\, United States
END:VEVENT
END:VCALENDAR