BEGIN:VCALENDAR
VERSION:2.0
PRODID:-//EBR Schools - ECPv6.15.20//NONSGML v1.0//EN
CALSCALE:GREGORIAN
METHOD:PUBLISH
X-WR-CALNAME:EBR Schools
X-ORIGINAL-URL:https://ebrschools.org
X-WR-CALDESC:Events for EBR Schools
REFRESH-INTERVAL;VALUE=DURATION:PT1H
X-Robots-Tag:noindex
X-PUBLISHED-TTL:PT1H
BEGIN:VTIMEZONE
TZID:America/Chicago
BEGIN:DAYLIGHT
TZOFFSETFROM:-0600
TZOFFSETTO:-0500
TZNAME:CDT
DTSTART:20220313T080000
END:DAYLIGHT
BEGIN:STANDARD
TZOFFSETFROM:-0500
TZOFFSETTO:-0600
TZNAME:CST
DTSTART:20221106T070000
END:STANDARD
BEGIN:DAYLIGHT
TZOFFSETFROM:-0600
TZOFFSETTO:-0500
TZNAME:CDT
DTSTART:20230312T080000
END:DAYLIGHT
BEGIN:STANDARD
TZOFFSETFROM:-0500
TZOFFSETTO:-0600
TZNAME:CST
DTSTART:20231105T070000
END:STANDARD
BEGIN:DAYLIGHT
TZOFFSETFROM:-0600
TZOFFSETTO:-0500
TZNAME:CDT
DTSTART:20240310T080000
END:DAYLIGHT
BEGIN:STANDARD
TZOFFSETFROM:-0500
TZOFFSETTO:-0600
TZNAME:CST
DTSTART:20241103T070000
END:STANDARD
BEGIN:DAYLIGHT
TZOFFSETFROM:-0600
TZOFFSETTO:-0500
TZNAME:CDT
DTSTART:20250309T080000
END:DAYLIGHT
BEGIN:STANDARD
TZOFFSETFROM:-0500
TZOFFSETTO:-0600
TZNAME:CST
DTSTART:20251102T070000
END:STANDARD
END:VTIMEZONE
BEGIN:VEVENT
DTSTART;TZID=America/Chicago:20240508T130000
DTEND;TZID=America/Chicago:20240508T130000
DTSTAMP:20260421T163425
CREATED:20240507T171230Z
LAST-MODIFIED:20240507T171230Z
UID:10000832-1715173200-1715173200@ebrschools.org
SUMMARY:Ad Hoc Committee Meeting
DESCRIPTION:Ad Hoc Committee Meeting to be held on May 8th at 1:00 p.m. in the Central Office board room.
URL:https://ebrschools.org/event/ad-hoc-committee-meeting/
LOCATION:Board Meeting Room\, 1050 South Foster Drive\, Baton Rouge\, LA\, 70806\, United States
CATEGORIES:School Board
END:VEVENT
BEGIN:VEVENT
DTSTART;TZID=America/Chicago:20240425T170000
DTEND;TZID=America/Chicago:20240425T210000
DTSTAMP:20260421T163425
CREATED:20220601T131145Z
LAST-MODIFIED:20240619T215301Z
UID:10000654-1714064400-1714078800@ebrschools.org
SUMMARY:Board Meeting
DESCRIPTION:Board meetings will be streamed live via YouTube. The link to watch the meeting can also be found on [http://%28https/go.boarddocs.com/la/ebrp/Board.nsf/Public]BoardDocs or on the School Board’s website (https://ebrschools.org/about/). \nA period for written public comment will be provided before the meeting as well as before each action is taken by the Board on an action item. Individuals wishing to make a public comment about any of the posted action items will need to click on the agenda item in BoardDocs\, and submit via the highlighted public comment hyperlink on the agenda item details. Online comments are available for public review. \nRecognitions will be held at 4:00 pm prior to the regular board meetings.
URL:https://ebrschools.org/event/board-meeting-2/2024-04-25/
LOCATION:Board Meeting Room\, 1050 South Foster Drive\, Baton Rouge\, LA\, 70806\, United States
CATEGORIES:School Board
ATTACH;FMTTYPE=image/png:https://ebrschools.org/wp-content/uploads/2024/06/Cal-Feature-School-Board-Meeting.png
END:VEVENT
BEGIN:VEVENT
DTSTART;TZID=America/Chicago:20240411T173000
DTEND;TZID=America/Chicago:20240411T173000
DTSTAMP:20260421T163425
CREATED:20240409T123115Z
LAST-MODIFIED:20240409T123155Z
UID:10000825-1712856600-1712856600@ebrschools.org
SUMMARY:Special Meeting - TO IMMEDIATELY FOLLOW COMMITTEE MEETINGS
DESCRIPTION:Special Meeting to be held on April 11\, 2024\, immediately following the Operations Committee Meeting in the Central Office Board Room.
URL:https://ebrschools.org/event/special-meeting-to-immediately-follow-committee-meetings/
LOCATION:Board Meeting Room\, 1050 South Foster Drive\, Baton Rouge\, LA\, 70806\, United States
CATEGORIES:School Board
END:VEVENT
BEGIN:VEVENT
DTSTART;TZID=America/Chicago:20240411T173000
DTEND;TZID=America/Chicago:20240411T173000
DTSTAMP:20260421T163425
CREATED:20240409T123014Z
LAST-MODIFIED:20240409T123015Z
UID:10000666-1712856600-1712856600@ebrschools.org
SUMMARY:Committee Meetings
DESCRIPTION:Committee Meetings to be held beginning at 5:00p in the Board Room. \nThe East Baton Rouge Parish School Board holds the following committees: \n\nAcademics\, Accountability\, Curriculum Instruction & Student Services\nBudget & Finance\nOperations\n\nThe order in which the committees meet is subject to change on a monthly basis. Please check BoardDocs for the most up-to-date details.
URL:https://ebrschools.org/event/committee-of-the-whole-meeting-2022-08-04-8-2/
LOCATION:Board Meeting Room\, 1050 South Foster Drive\, Baton Rouge\, LA\, 70806\, United States
CATEGORIES:School Board
END:VEVENT
BEGIN:VEVENT
DTSTART;TZID=America/Chicago:20240411T163000
DTEND;TZID=America/Chicago:20240411T173000
DTSTAMP:20260421T163425
CREATED:20240405T111026Z
LAST-MODIFIED:20240409T122927Z
UID:10000824-1712853000-1712856600@ebrschools.org
SUMMARY:Board Workshop
DESCRIPTION:Board Workshop to be held on April 11\, 2024 from 4:30-5:30 p.m. at the Central Office Board Room. Some or all Board members may attend.
URL:https://ebrschools.org/event/board-retreat-5/
LOCATION:Board Meeting Room\, 1050 South Foster Drive\, Baton Rouge\, LA\, 70806\, United States
CATEGORIES:School Board
END:VEVENT
BEGIN:VEVENT
DTSTART;TZID=America/Chicago:20240321T170000
DTEND;TZID=America/Chicago:20240321T210000
DTSTAMP:20260421T163425
CREATED:20220601T131145Z
LAST-MODIFIED:20240619T215301Z
UID:10000653-1711040400-1711054800@ebrschools.org
SUMMARY:Board Meeting
DESCRIPTION:Board meetings will be streamed live via YouTube. The link to watch the meeting can also be found on [http://%28https/go.boarddocs.com/la/ebrp/Board.nsf/Public]BoardDocs or on the School Board’s website (https://ebrschools.org/about/). \nA period for written public comment will be provided before the meeting as well as before each action is taken by the Board on an action item. Individuals wishing to make a public comment about any of the posted action items will need to click on the agenda item in BoardDocs\, and submit via the highlighted public comment hyperlink on the agenda item details. Online comments are available for public review. \nRecognitions will be held at 4:00 pm prior to the regular board meetings.
URL:https://ebrschools.org/event/board-meeting-2/2024-03-21/
LOCATION:Board Meeting Room\, 1050 South Foster Drive\, Baton Rouge\, LA\, 70806\, United States
CATEGORIES:School Board
ATTACH;FMTTYPE=image/png:https://ebrschools.org/wp-content/uploads/2024/06/Cal-Feature-School-Board-Meeting.png
END:VEVENT
BEGIN:VEVENT
DTSTART;TZID=America/Chicago:20240307T170000
DTEND;TZID=America/Chicago:20240307T210000
DTSTAMP:20260421T163426
CREATED:20240206T211637Z
LAST-MODIFIED:20240306T205646Z
UID:10000665-1709830800-1709845200@ebrschools.org
SUMMARY:Committee Meetings
DESCRIPTION:Committee Meetings to be held on March 7\,  2024 at 5:00p in the Board Room. \nThe East Baton Rouge Parish School Board holds the following committees: \n\nAcademics\, Accountability\, Curriculum Instruction & Student Services\nBudget & Finance\nOperations\n\nThe order in which the committees meet is subject to change on a monthly basis. Please check BoardDocs for the most up-to-date details.
URL:https://ebrschools.org/event/committee-of-the-whole-meeting-2022-08-04-7/
LOCATION:Board Meeting Room\, 1050 South Foster Drive\, Baton Rouge\, LA\, 70806\, United States
CATEGORIES:School Board
END:VEVENT
BEGIN:VEVENT
DTSTART;TZID=America/Chicago:20240307T160000
DTEND;TZID=America/Chicago:20240307T170000
DTSTAMP:20260421T163426
CREATED:20240206T211406Z
LAST-MODIFIED:20240304T185548Z
UID:10000796-1709827200-1709830800@ebrschools.org
SUMMARY:Special Meeting
DESCRIPTION:Special Meeting to be held on March 7\,  2024\, at 4:00 p.m. in the Central Office Boardroom. Some or all Board Members may attend.
URL:https://ebrschools.org/event/board-workshop-4/
LOCATION:Board Meeting Room\, 1050 South Foster Drive\, Baton Rouge\, LA\, 70806\, United States
CATEGORIES:School Board
END:VEVENT
BEGIN:VEVENT
DTSTART;TZID=America/Chicago:20240222T170000
DTEND;TZID=America/Chicago:20240222T210000
DTSTAMP:20260421T163426
CREATED:20220601T131145Z
LAST-MODIFIED:20240619T215301Z
UID:10000652-1708621200-1708635600@ebrschools.org
SUMMARY:Board Meeting
DESCRIPTION:Board meetings will be streamed live via YouTube. The link to watch the meeting can also be found on [http://%28https/go.boarddocs.com/la/ebrp/Board.nsf/Public]BoardDocs or on the School Board’s website (https://ebrschools.org/about/). \nA period for written public comment will be provided before the meeting as well as before each action is taken by the Board on an action item. Individuals wishing to make a public comment about any of the posted action items will need to click on the agenda item in BoardDocs\, and submit via the highlighted public comment hyperlink on the agenda item details. Online comments are available for public review. \nRecognitions will be held at 4:00 pm prior to the regular board meetings.
URL:https://ebrschools.org/event/board-meeting-2/2024-02-22/
LOCATION:Board Meeting Room\, 1050 South Foster Drive\, Baton Rouge\, LA\, 70806\, United States
CATEGORIES:School Board
ATTACH;FMTTYPE=image/png:https://ebrschools.org/wp-content/uploads/2024/06/Cal-Feature-School-Board-Meeting.png
END:VEVENT
BEGIN:VEVENT
DTSTART;TZID=America/Chicago:20240208T170000
DTEND;TZID=America/Chicago:20240208T210000
DTSTAMP:20260421T163426
CREATED:20220601T132846Z
LAST-MODIFIED:20230607T154816Z
UID:10000664-1707411600-1707426000@ebrschools.org
SUMMARY:Committee of the Whole Meeting
DESCRIPTION:
URL:https://ebrschools.org/event/committee-of-the-whole-meeting-2022-08-04/2024-02-08/
LOCATION:Board Meeting Room\, 1050 South Foster Drive\, Baton Rouge\, LA\, 70806\, United States
CATEGORIES:School Board
END:VEVENT
BEGIN:VEVENT
DTSTART;TZID=America/Chicago:20240125T170000
DTEND;TZID=America/Chicago:20240125T210000
DTSTAMP:20260421T163426
CREATED:20220601T131145Z
LAST-MODIFIED:20240619T215301Z
UID:10000651-1706202000-1706216400@ebrschools.org
SUMMARY:Board Meeting
DESCRIPTION:Board meetings will be streamed live via YouTube. The link to watch the meeting can also be found on [http://%28https/go.boarddocs.com/la/ebrp/Board.nsf/Public]BoardDocs or on the School Board’s website (https://ebrschools.org/about/). \nA period for written public comment will be provided before the meeting as well as before each action is taken by the Board on an action item. Individuals wishing to make a public comment about any of the posted action items will need to click on the agenda item in BoardDocs\, and submit via the highlighted public comment hyperlink on the agenda item details. Online comments are available for public review. \nRecognitions will be held at 4:00 pm prior to the regular board meetings.
URL:https://ebrschools.org/event/board-meeting-2/2024-01-25/
LOCATION:Board Meeting Room\, 1050 South Foster Drive\, Baton Rouge\, LA\, 70806\, United States
CATEGORIES:School Board
ATTACH;FMTTYPE=image/png:https://ebrschools.org/wp-content/uploads/2024/06/Cal-Feature-School-Board-Meeting.png
END:VEVENT
BEGIN:VEVENT
DTSTART;TZID=America/Chicago:20240123T170000
DTEND;TZID=America/Chicago:20240123T210000
DTSTAMP:20260421T163426
CREATED:20240119T165137Z
LAST-MODIFIED:20240120T154607Z
UID:10000789-1706029200-1706043600@ebrschools.org
SUMMARY:Special Meeting
DESCRIPTION:Special Meeting to be held on January 23\, 2024 at 5:00 p.m. in the Central Office Boardroom.
URL:https://ebrschools.org/event/special-meeting-15/
LOCATION:Board Meeting Room\, 1050 South Foster Drive\, Baton Rouge\, LA\, 70806\, United States
CATEGORIES:School Board
END:VEVENT
BEGIN:VEVENT
DTSTART;TZID=America/Chicago:20240111T170000
DTEND;TZID=America/Chicago:20240111T210000
DTSTAMP:20260421T163426
CREATED:20240110T193720Z
LAST-MODIFIED:20240110T193721Z
UID:10000663-1704992400-1705006800@ebrschools.org
SUMMARY:Committee of the Whole Meeting - to IMMEDIATELY FOLLOW Special Meeting
DESCRIPTION:
URL:https://ebrschools.org/event/committee-of-the-whole-meeting-2022-08-04-6/
LOCATION:Board Meeting Room\, 1050 South Foster Drive\, Baton Rouge\, LA\, 70806\, United States
CATEGORIES:School Board
END:VEVENT
BEGIN:VEVENT
DTSTART;TZID=America/Chicago:20240111T170000
DTEND;TZID=America/Chicago:20240111T170000
DTSTAMP:20260421T163426
CREATED:20240110T193338Z
LAST-MODIFIED:20240110T193444Z
UID:10000788-1704992400-1704992400@ebrschools.org
SUMMARY:Special Meeting
DESCRIPTION:Special Meeting to be held on January 11\, 2024 at 5:00 p.m. in the Central Office Boardroom.
URL:https://ebrschools.org/event/special-meeting-14/
LOCATION:Board Meeting Room\, 1050 South Foster Drive\, Baton Rouge\, LA\, 70806\, United States
CATEGORIES:School Board
END:VEVENT
BEGIN:VEVENT
DTSTART;TZID=America/Chicago:20231214T170000
DTEND;TZID=America/Chicago:20231214T210000
DTSTAMP:20260421T163426
CREATED:20220601T131145Z
LAST-MODIFIED:20240619T215301Z
UID:10000650-1702573200-1702587600@ebrschools.org
SUMMARY:Board Meeting
DESCRIPTION:Board meetings will be streamed live via YouTube. The link to watch the meeting can also be found on [http://%28https/go.boarddocs.com/la/ebrp/Board.nsf/Public]BoardDocs or on the School Board’s website (https://ebrschools.org/about/). \nA period for written public comment will be provided before the meeting as well as before each action is taken by the Board on an action item. Individuals wishing to make a public comment about any of the posted action items will need to click on the agenda item in BoardDocs\, and submit via the highlighted public comment hyperlink on the agenda item details. Online comments are available for public review. \nRecognitions will be held at 4:00 pm prior to the regular board meetings.
URL:https://ebrschools.org/event/board-meeting-2/2023-12-14/
LOCATION:Board Meeting Room\, 1050 South Foster Drive\, Baton Rouge\, LA\, 70806\, United States
CATEGORIES:School Board
ATTACH;FMTTYPE=image/png:https://ebrschools.org/wp-content/uploads/2024/06/Cal-Feature-School-Board-Meeting.png
END:VEVENT
BEGIN:VEVENT
DTSTART;TZID=America/Chicago:20231207T170000
DTEND;TZID=America/Chicago:20231207T210000
DTSTAMP:20260421T163426
CREATED:20231114T191436Z
LAST-MODIFIED:20231114T191437Z
UID:10000662-1701968400-1701982800@ebrschools.org
SUMMARY:Committee of the Whole Meeting - to follow Special Meeting
DESCRIPTION:Committee of the Whole to be held on December 7\, 2023\, immediately following the Special Meeting in the Central Office Boardroom.
URL:https://ebrschools.org/event/committee-of-the-whole-meeting-2022-08-04-5/
LOCATION:Board Meeting Room\, 1050 South Foster Drive\, Baton Rouge\, LA\, 70806\, United States
CATEGORIES:School Board
END:VEVENT
BEGIN:VEVENT
DTSTART;TZID=America/Chicago:20231207T170000
DTEND;TZID=America/Chicago:20231207T170000
DTSTAMP:20260421T163426
CREATED:20231114T191144Z
LAST-MODIFIED:20231114T191234Z
UID:10000780-1701968400-1701968400@ebrschools.org
SUMMARY:Special Meeting
DESCRIPTION:Special Meeting to be held on December 7\, 2023\, at 5:00 p.m. in the Central Office Boardroom.
URL:https://ebrschools.org/event/special-meeting-13/
LOCATION:Board Meeting Room\, 1050 South Foster Drive\, Baton Rouge\, LA\, 70806\, United States
CATEGORIES:School Board
END:VEVENT
BEGIN:VEVENT
DTSTART;TZID=America/Chicago:20231116T170000
DTEND;TZID=America/Chicago:20231116T210000
DTSTAMP:20260421T163426
CREATED:20220601T131145Z
LAST-MODIFIED:20240619T215301Z
UID:10000649-1700154000-1700168400@ebrschools.org
SUMMARY:Board Meeting
DESCRIPTION:Board meetings will be streamed live via YouTube. The link to watch the meeting can also be found on [http://%28https/go.boarddocs.com/la/ebrp/Board.nsf/Public]BoardDocs or on the School Board’s website (https://ebrschools.org/about/). \nA period for written public comment will be provided before the meeting as well as before each action is taken by the Board on an action item. Individuals wishing to make a public comment about any of the posted action items will need to click on the agenda item in BoardDocs\, and submit via the highlighted public comment hyperlink on the agenda item details. Online comments are available for public review. \nRecognitions will be held at 4:00 pm prior to the regular board meetings.
URL:https://ebrschools.org/event/board-meeting-2/2023-11-16/
LOCATION:Board Meeting Room\, 1050 South Foster Drive\, Baton Rouge\, LA\, 70806\, United States
CATEGORIES:School Board
ATTACH;FMTTYPE=image/png:https://ebrschools.org/wp-content/uploads/2024/06/Cal-Feature-School-Board-Meeting.png
END:VEVENT
BEGIN:VEVENT
DTSTART;TZID=America/Chicago:20231102T170000
DTEND;TZID=America/Chicago:20231102T210000
DTSTAMP:20260421T163426
CREATED:20220601T132846Z
LAST-MODIFIED:20230607T154816Z
UID:10000661-1698944400-1698958800@ebrschools.org
SUMMARY:Committee of the Whole Meeting
DESCRIPTION:
URL:https://ebrschools.org/event/committee-of-the-whole-meeting-2022-08-04/2023-11-02/
LOCATION:Board Meeting Room\, 1050 South Foster Drive\, Baton Rouge\, LA\, 70806\, United States
CATEGORIES:School Board
END:VEVENT
BEGIN:VEVENT
DTSTART;TZID=America/Chicago:20231019T170000
DTEND;TZID=America/Chicago:20231019T210000
DTSTAMP:20260421T163426
CREATED:20220601T131145Z
LAST-MODIFIED:20240619T215301Z
UID:10000648-1697734800-1697749200@ebrschools.org
SUMMARY:Board Meeting
DESCRIPTION:Board meetings will be streamed live via YouTube. The link to watch the meeting can also be found on [http://%28https/go.boarddocs.com/la/ebrp/Board.nsf/Public]BoardDocs or on the School Board’s website (https://ebrschools.org/about/). \nA period for written public comment will be provided before the meeting as well as before each action is taken by the Board on an action item. Individuals wishing to make a public comment about any of the posted action items will need to click on the agenda item in BoardDocs\, and submit via the highlighted public comment hyperlink on the agenda item details. Online comments are available for public review. \nRecognitions will be held at 4:00 pm prior to the regular board meetings.
URL:https://ebrschools.org/event/board-meeting-2/2023-10-19/
LOCATION:Board Meeting Room\, 1050 South Foster Drive\, Baton Rouge\, LA\, 70806\, United States
CATEGORIES:School Board
ATTACH;FMTTYPE=image/png:https://ebrschools.org/wp-content/uploads/2024/06/Cal-Feature-School-Board-Meeting.png
END:VEVENT
BEGIN:VEVENT
DTSTART;TZID=America/Chicago:20231005T170000
DTEND;TZID=America/Chicago:20231005T210000
DTSTAMP:20260421T163426
CREATED:20220601T132846Z
LAST-MODIFIED:20230607T154816Z
UID:10000660-1696525200-1696539600@ebrschools.org
SUMMARY:Committee of the Whole Meeting
DESCRIPTION:
URL:https://ebrschools.org/event/committee-of-the-whole-meeting-2022-08-04/2023-10-05/
LOCATION:Board Meeting Room\, 1050 South Foster Drive\, Baton Rouge\, LA\, 70806\, United States
CATEGORIES:School Board
END:VEVENT
BEGIN:VEVENT
DTSTART;TZID=America/Chicago:20230928T170000
DTEND;TZID=America/Chicago:20230928T170000
DTSTAMP:20260421T163426
CREATED:20220601T131145Z
LAST-MODIFIED:20240619T215301Z
UID:10000767-1695920400-1695920400@ebrschools.org
SUMMARY:Board Meeting
DESCRIPTION:Board meetings will be streamed live via YouTube. The link to watch the meeting can also be found on [http://%28https/go.boarddocs.com/la/ebrp/Board.nsf/Public]BoardDocs or on the School Board’s website (https://ebrschools.org/about/). \nA period for written public comment will be provided before the meeting as well as before each action is taken by the Board on an action item. Individuals wishing to make a public comment about any of the posted action items will need to click on the agenda item in BoardDocs\, and submit via the highlighted public comment hyperlink on the agenda item details. Online comments are available for public review. \nRecognitions will be held at 4:00 pm prior to the regular board meetings.
URL:https://ebrschools.org/event/board-meeting-2/2023-09-28/
LOCATION:Board Meeting Room\, 1050 South Foster Drive\, Baton Rouge\, LA\, 70806\, United States
CATEGORIES:School Board
ATTACH;FMTTYPE=image/png:https://ebrschools.org/wp-content/uploads/2024/06/Cal-Feature-School-Board-Meeting.png
END:VEVENT
BEGIN:VEVENT
DTSTART;TZID=America/Chicago:20230907T170000
DTEND;TZID=America/Chicago:20230907T210000
DTSTAMP:20260421T163426
CREATED:20230906T232804Z
LAST-MODIFIED:20230906T232805Z
UID:10000659-1694106000-1694120400@ebrschools.org
SUMMARY:Committee of the Whole Meeting
DESCRIPTION:Committee of the Whole to immediately follow the Special Meeting.
URL:https://ebrschools.org/event/committee-of-the-whole-meeting-2022-08-04-4/
LOCATION:Board Meeting Room\, 1050 South Foster Drive\, Baton Rouge\, LA\, 70806\, United States
CATEGORIES:School Board
END:VEVENT
BEGIN:VEVENT
DTSTART;TZID=America/Chicago:20230907T170000
DTEND;TZID=America/Chicago:20230907T170000
DTSTAMP:20260421T163426
CREATED:20230906T232702Z
LAST-MODIFIED:20230906T232702Z
UID:10000765-1694106000-1694106000@ebrschools.org
SUMMARY:Special Meeting
DESCRIPTION:Special meeting to be held at 5:00pm on September 7\, 2023 in the Central Office Board Meeting Room. Committee of the Whole to immediately follow.
URL:https://ebrschools.org/event/special-meeting-12/
LOCATION:Board Meeting Room\, 1050 South Foster Drive\, Baton Rouge\, LA\, 70806\, United States
CATEGORIES:School Board
END:VEVENT
BEGIN:VEVENT
DTSTART;TZID=America/Chicago:20230817T170000
DTEND;TZID=America/Chicago:20230817T210000
DTSTAMP:20260421T163426
CREATED:20220601T131145Z
LAST-MODIFIED:20240619T215301Z
UID:10000646-1692291600-1692306000@ebrschools.org
SUMMARY:Board Meeting
DESCRIPTION:Board meetings will be streamed live via YouTube. The link to watch the meeting can also be found on [http://%28https/go.boarddocs.com/la/ebrp/Board.nsf/Public]BoardDocs or on the School Board’s website (https://ebrschools.org/about/). \nA period for written public comment will be provided before the meeting as well as before each action is taken by the Board on an action item. Individuals wishing to make a public comment about any of the posted action items will need to click on the agenda item in BoardDocs\, and submit via the highlighted public comment hyperlink on the agenda item details. Online comments are available for public review. \nRecognitions will be held at 4:00 pm prior to the regular board meetings.
URL:https://ebrschools.org/event/board-meeting-2/2023-08-17/
LOCATION:Board Meeting Room\, 1050 South Foster Drive\, Baton Rouge\, LA\, 70806\, United States
CATEGORIES:School Board
ATTACH;FMTTYPE=image/png:https://ebrschools.org/wp-content/uploads/2024/06/Cal-Feature-School-Board-Meeting.png
END:VEVENT
BEGIN:VEVENT
DTSTART;TZID=America/Chicago:20230814T170000
DTEND;TZID=America/Chicago:20230814T210000
DTSTAMP:20260421T163426
CREATED:20230811T202635Z
LAST-MODIFIED:20230811T202635Z
UID:10000684-1692032400-1692046800@ebrschools.org
SUMMARY:Board Workshop/Public Hearing
DESCRIPTION:
URL:https://ebrschools.org/event/board-workshop-public-hearing/
LOCATION:Board Meeting Room\, 1050 South Foster Drive\, Baton Rouge\, LA\, 70806\, United States
CATEGORIES:School Board
END:VEVENT
BEGIN:VEVENT
DTSTART;TZID=America/Chicago:20230803T170000
DTEND;TZID=America/Chicago:20230803T210000
DTSTAMP:20260421T163426
CREATED:20230802T030014Z
LAST-MODIFIED:20230802T030015Z
UID:10000658-1691082000-1691096400@ebrschools.org
SUMMARY:Committee of the Whole Meeting - to IMMEDIATELY FOLLOW Special Meeting
DESCRIPTION:Committee of the Whole to be held IMMEDIATELY FOLLOWING the Special Meeting in the Central Office Board Room.
URL:https://ebrschools.org/event/committee-of-the-whole-meeting-2022-08-04-3/
LOCATION:Board Meeting Room\, 1050 South Foster Drive\, Baton Rouge\, LA\, 70806\, United States
CATEGORIES:School Board
END:VEVENT
BEGIN:VEVENT
DTSTART;TZID=America/Chicago:20230803T163000
DTEND;TZID=America/Chicago:20230803T170000
DTSTAMP:20260421T163426
CREATED:20230802T025923Z
LAST-MODIFIED:20230802T025923Z
UID:10000682-1691080200-1691082000@ebrschools.org
SUMMARY:Special Meeting
DESCRIPTION:Special Meeting to be held at 4:30 PM at the Central Office Board Room.
URL:https://ebrschools.org/event/special-meeting-10/
LOCATION:Board Meeting Room\, 1050 South Foster Drive\, Baton Rouge\, LA\, 70806\, United States
CATEGORIES:School Board
END:VEVENT
BEGIN:VEVENT
DTSTART;TZID=America/Chicago:20230731T170000
DTEND;TZID=America/Chicago:20230731T210000
DTSTAMP:20260421T163426
CREATED:20230705T184742Z
LAST-MODIFIED:20230710T214631Z
UID:10000673-1690822800-1690837200@ebrschools.org
SUMMARY:Special Meeting - IMMEDIATELY FOLLOWS PUBLIC HEARING
DESCRIPTION:Special Meeting to be held IMMEDIATELY AFTER the Public Hearing – Board Workshop at the Central Office Board Room
URL:https://ebrschools.org/event/special-meeting-8/
LOCATION:Board Meeting Room\, 1050 South Foster Drive\, Baton Rouge\, LA\, 70806\, United States
CATEGORIES:School Board
END:VEVENT
BEGIN:VEVENT
DTSTART;TZID=America/Chicago:20230731T170000
DTEND;TZID=America/Chicago:20230731T170000
DTSTAMP:20260421T163426
CREATED:20230710T214532Z
LAST-MODIFIED:20230710T214532Z
UID:10000678-1690822800-1690822800@ebrschools.org
SUMMARY:Public Hearing - Board Workshop
DESCRIPTION:Public Hearing-Board Workshop be held on July 31\, 2023\, at 5:00 p.m. in the Central Office Boardroom.
URL:https://ebrschools.org/event/public-hearing-board-workshop-3/
LOCATION:Board Meeting Room\, 1050 South Foster Drive\, Baton Rouge\, LA\, 70806\, United States
CATEGORIES:School Board
END:VEVENT
END:VCALENDAR