BEGIN:VCALENDAR
VERSION:2.0
PRODID:-//EBR Schools - ECPv6.15.20//NONSGML v1.0//EN
CALSCALE:GREGORIAN
METHOD:PUBLISH
X-ORIGINAL-URL:https://ebrschools.org
X-WR-CALDESC:Events for EBR Schools
REFRESH-INTERVAL;VALUE=DURATION:PT1H
X-Robots-Tag:noindex
X-PUBLISHED-TTL:PT1H
BEGIN:VTIMEZONE
TZID:America/Chicago
BEGIN:DAYLIGHT
TZOFFSETFROM:-0600
TZOFFSETTO:-0500
TZNAME:CDT
DTSTART:20220313T080000
END:DAYLIGHT
BEGIN:STANDARD
TZOFFSETFROM:-0500
TZOFFSETTO:-0600
TZNAME:CST
DTSTART:20221106T070000
END:STANDARD
BEGIN:DAYLIGHT
TZOFFSETFROM:-0600
TZOFFSETTO:-0500
TZNAME:CDT
DTSTART:20230312T080000
END:DAYLIGHT
BEGIN:STANDARD
TZOFFSETFROM:-0500
TZOFFSETTO:-0600
TZNAME:CST
DTSTART:20231105T070000
END:STANDARD
BEGIN:DAYLIGHT
TZOFFSETFROM:-0600
TZOFFSETTO:-0500
TZNAME:CDT
DTSTART:20240310T080000
END:DAYLIGHT
BEGIN:STANDARD
TZOFFSETFROM:-0500
TZOFFSETTO:-0600
TZNAME:CST
DTSTART:20241103T070000
END:STANDARD
BEGIN:DAYLIGHT
TZOFFSETFROM:-0600
TZOFFSETTO:-0500
TZNAME:CDT
DTSTART:20250309T080000
END:DAYLIGHT
BEGIN:STANDARD
TZOFFSETFROM:-0500
TZOFFSETTO:-0600
TZNAME:CST
DTSTART:20251102T070000
END:STANDARD
BEGIN:DAYLIGHT
TZOFFSETFROM:-0600
TZOFFSETTO:-0500
TZNAME:CDT
DTSTART:20260308T080000
END:DAYLIGHT
BEGIN:STANDARD
TZOFFSETFROM:-0500
TZOFFSETTO:-0600
TZNAME:CST
DTSTART:20261101T070000
END:STANDARD
END:VTIMEZONE
BEGIN:VEVENT
DTSTART;TZID=America/Chicago:20250730T060000
DTEND;TZID=America/Chicago:20250730T173000
DTSTAMP:20260419T210149
CREATED:20250709T205033Z
LAST-MODIFIED:20250709T205033Z
UID:10001057-1753855200-1753896600@ebrschools.org
SUMMARY:Stuff the Bus
DESCRIPTION:WBRZ presents: Stuff the Bus with School Supplies! \nWBRZ’s Stuff the Bus campaign is a school supply drive that assists parents and teachers in the East Baton Rouge Parish to receive the school supplies their children need in order to succeed. Help us fill an East Baton Rouge Parish School System school bus with school supplies for the children and educators of our community! \nYou can also help by eating at any area Raising Cane’s location on Monday\, July 24\, 2025\, when a portion of all sales will be donated for school supplies. \nCollection Point for East Baton Rouge: Walmart Supercenter College Drive\, 3132 College Drive\, Baton Rouge.
URL:https://ebrschools.org/event/stuff-the-bus/
LOCATION:College Drive Walmart\, 3132 College Drive\, Baton Rouge\, LA\, 70808\, United States
CATEGORIES:Community Engagement,Events
ATTACH;FMTTYPE=image/png:https://ebrschools.org/wp-content/uploads/2025/07/Stuff-the-Bus-Calendar-Feature.png
END:VEVENT
BEGIN:VEVENT
DTSTART;TZID=America/Chicago:20240724T060000
DTEND;TZID=America/Chicago:20240724T173000
DTSTAMP:20260419T210149
CREATED:20240716T183818Z
LAST-MODIFIED:20240716T183818Z
UID:10000927-1721800800-1721842200@ebrschools.org
SUMMARY:Stuff the Bus 2024
DESCRIPTION:
URL:https://ebrschools.org/event/stuff-the-bus-2024/
LOCATION:College Drive Walmart\, 3132 College Drive\, Baton Rouge\, LA\, 70808\, United States
CATEGORIES:Events
ATTACH;FMTTYPE=image/png:https://ebrschools.org/wp-content/uploads/2024/07/Stuff-the-Bus-Calendar-Thumbnail.png
END:VEVENT
BEGIN:VEVENT
DTSTART;TZID=America/Chicago:20230726T060000
DTEND;TZID=America/Chicago:20230726T180000
DTSTAMP:20260419T210149
CREATED:20230718T142250Z
LAST-MODIFIED:20230718T142250Z
UID:10000680-1690351200-1690394400@ebrschools.org
SUMMARY:Stuff the Bus 2023
DESCRIPTION:
URL:https://ebrschools.org/event/stuff-the-bus-2023/
LOCATION:College Drive Walmart\, 3132 College Drive\, Baton Rouge\, LA\, 70808\, United States
CATEGORIES:Events
END:VEVENT
END:VCALENDAR