BEGIN:VCALENDAR
VERSION:2.0
PRODID:-//EBR Schools - ECPv6.15.20//NONSGML v1.0//EN
CALSCALE:GREGORIAN
METHOD:PUBLISH
X-WR-CALNAME:EBR Schools
X-ORIGINAL-URL:https://ebrschools.org
X-WR-CALDESC:Events for EBR Schools
REFRESH-INTERVAL;VALUE=DURATION:PT1H
X-Robots-Tag:noindex
X-PUBLISHED-TTL:PT1H
BEGIN:VTIMEZONE
TZID:America/Chicago
BEGIN:DAYLIGHT
TZOFFSETFROM:-0600
TZOFFSETTO:-0500
TZNAME:CDT
DTSTART:20210314T080000
END:DAYLIGHT
BEGIN:STANDARD
TZOFFSETFROM:-0500
TZOFFSETTO:-0600
TZNAME:CST
DTSTART:20211107T070000
END:STANDARD
BEGIN:DAYLIGHT
TZOFFSETFROM:-0600
TZOFFSETTO:-0500
TZNAME:CDT
DTSTART:20220313T080000
END:DAYLIGHT
BEGIN:STANDARD
TZOFFSETFROM:-0500
TZOFFSETTO:-0600
TZNAME:CST
DTSTART:20221106T070000
END:STANDARD
BEGIN:DAYLIGHT
TZOFFSETFROM:-0600
TZOFFSETTO:-0500
TZNAME:CDT
DTSTART:20230312T080000
END:DAYLIGHT
BEGIN:STANDARD
TZOFFSETFROM:-0500
TZOFFSETTO:-0600
TZNAME:CST
DTSTART:20231105T070000
END:STANDARD
BEGIN:DAYLIGHT
TZOFFSETFROM:-0600
TZOFFSETTO:-0500
TZNAME:CDT
DTSTART:20240310T080000
END:DAYLIGHT
BEGIN:STANDARD
TZOFFSETFROM:-0500
TZOFFSETTO:-0600
TZNAME:CST
DTSTART:20241103T070000
END:STANDARD
BEGIN:DAYLIGHT
TZOFFSETFROM:-0600
TZOFFSETTO:-0500
TZNAME:CDT
DTSTART:20250309T080000
END:DAYLIGHT
BEGIN:STANDARD
TZOFFSETFROM:-0500
TZOFFSETTO:-0600
TZNAME:CST
DTSTART:20251102T070000
END:STANDARD
BEGIN:DAYLIGHT
TZOFFSETFROM:-0600
TZOFFSETTO:-0500
TZNAME:CDT
DTSTART:20260308T080000
END:DAYLIGHT
BEGIN:STANDARD
TZOFFSETFROM:-0500
TZOFFSETTO:-0600
TZNAME:CST
DTSTART:20261101T070000
END:STANDARD
BEGIN:DAYLIGHT
TZOFFSETFROM:-0600
TZOFFSETTO:-0500
TZNAME:CDT
DTSTART:20270314T080000
END:DAYLIGHT
BEGIN:STANDARD
TZOFFSETFROM:-0500
TZOFFSETTO:-0600
TZNAME:CST
DTSTART:20271107T070000
END:STANDARD
END:VTIMEZONE
BEGIN:VEVENT
DTSTART;TZID=America/Chicago:20260226T100000
DTEND;TZID=America/Chicago:20260226T130000
DTSTAMP:20260420T203640
CREATED:20251202T154628Z
LAST-MODIFIED:20260206T174956Z
UID:10001100-1772100000-1772110800@ebrschools.org
SUMMARY:Adult Wellness Expo (Open to the Public)
DESCRIPTION:Join us for our 2nd Annual Adult Wellness Expo\nThe Wellness Expo is open to the public and for adults who want to be proactive about their health. We’ll be focusing on physical\, mental\, and emotional wellness. Come out to learn how to live healthier\, get free assessments\, access helpful resources\, and take charge of your health. \nJoin us for: \n\nBlood pressure check\nTobacco cessation\nMedicaid benefits\nFire safety\nImmunizations\nFood demonstrations\nNutrition education\nPhysical activities\nMental wellness\nFitness assessments\nHealthy snacks\n\nThursday\, February 26\, 2026 from 10AM – 1PM at the EBRPL Main Library (7711 Goodwood Blvd.\, Baton Rouge\, 70806) \nFor additional information\, please contact dbandy@ebrschools.org or chollins1@ebrschools.org.
URL:https://ebrschools.org/event/wellness-expo-2026/
LOCATION:EBRP Library Main Branch\, 7711 Goodwood Blvd\, Baton Rouge\, LA\, 70806\, United States
CATEGORIES:Events
ATTACH;FMTTYPE=image/webp:https://ebrschools.org/wp-content/uploads/2025/12/Wellness-Expo.webp
END:VEVENT
BEGIN:VEVENT
DTSTART;TZID=America/Chicago:20220924T100000
DTEND;TZID=America/Chicago:20220924T130000
DTSTAMP:20260420T203640
CREATED:20220919T142331Z
LAST-MODIFIED:20220919T184612Z
UID:10000598-1664013600-1664024400@ebrschools.org
SUMMARY:Gifted Extravaganza
DESCRIPTION:
URL:https://ebrschools.org/event/gifted-extravaganza/
LOCATION:EBRP Library Main Branch\, 7711 Goodwood Blvd\, Baton Rouge\, LA\, 70806\, United States
CATEGORIES:Events
END:VEVENT
END:VCALENDAR