BEGIN:VCALENDAR
VERSION:2.0
PRODID:-//EBR Schools - ECPv6.15.20//NONSGML v1.0//EN
CALSCALE:GREGORIAN
METHOD:PUBLISH
X-WR-CALNAME:EBR Schools
X-ORIGINAL-URL:https://ebrschools.org
X-WR-CALDESC:Events for EBR Schools
REFRESH-INTERVAL;VALUE=DURATION:PT1H
X-Robots-Tag:noindex
X-PUBLISHED-TTL:PT1H
BEGIN:VTIMEZONE
TZID:America/Chicago
BEGIN:DAYLIGHT
TZOFFSETFROM:-0600
TZOFFSETTO:-0500
TZNAME:CDT
DTSTART:20220313T080000
END:DAYLIGHT
BEGIN:STANDARD
TZOFFSETFROM:-0500
TZOFFSETTO:-0600
TZNAME:CST
DTSTART:20221106T070000
END:STANDARD
BEGIN:DAYLIGHT
TZOFFSETFROM:-0600
TZOFFSETTO:-0500
TZNAME:CDT
DTSTART:20230312T080000
END:DAYLIGHT
BEGIN:STANDARD
TZOFFSETFROM:-0500
TZOFFSETTO:-0600
TZNAME:CST
DTSTART:20231105T070000
END:STANDARD
BEGIN:DAYLIGHT
TZOFFSETFROM:-0600
TZOFFSETTO:-0500
TZNAME:CDT
DTSTART:20240310T080000
END:DAYLIGHT
BEGIN:STANDARD
TZOFFSETFROM:-0500
TZOFFSETTO:-0600
TZNAME:CST
DTSTART:20241103T070000
END:STANDARD
BEGIN:DAYLIGHT
TZOFFSETFROM:-0600
TZOFFSETTO:-0500
TZNAME:CDT
DTSTART:20250309T080000
END:DAYLIGHT
BEGIN:STANDARD
TZOFFSETFROM:-0500
TZOFFSETTO:-0600
TZNAME:CST
DTSTART:20251102T070000
END:STANDARD
END:VTIMEZONE
BEGIN:VEVENT
DTSTART;TZID=America/Chicago:20240729T180000
DTEND;TZID=America/Chicago:20240729T180000
DTSTAMP:20260424T220114
CREATED:20240611T190735Z
LAST-MODIFIED:20240611T192015Z
UID:10000874-1722276000-1722276000@ebrschools.org
SUMMARY:Summer Graduation
DESCRIPTION:Congratulations\, EBRPSS graduates!
URL:https://ebrschools.org/event/summer-graduation-3/
LOCATION:Glen Oaks Magnet High School\, 6450 Cedar Grove Drive\, Baton Rouge\, LA\, 70812\, United States
CATEGORIES:Events,Graduation Ceremonies
ATTACH;FMTTYPE=image/png:https://ebrschools.org/wp-content/uploads/2024/06/Summer-Graduation-Calendar-Feature.png
END:VEVENT
BEGIN:VEVENT
DTSTART;TZID=America/Chicago:20240517T180000
DTEND;TZID=America/Chicago:20240517T180000
DTSTAMP:20260424T220114
CREATED:20240314T200531Z
LAST-MODIFIED:20240513T161007Z
UID:10000804-1715968800-1715968800@ebrschools.org
SUMMARY:Northdale Academy Graduation
DESCRIPTION:Click Here to watch the livestream.
URL:https://ebrschools.org/event/northdale-academy-graduation-2/
LOCATION:Glen Oaks Magnet High School\, 6450 Cedar Grove Drive\, Baton Rouge\, LA\, 70812\, United States
CATEGORIES:Graduation Ceremonies
END:VEVENT
BEGIN:VEVENT
DTSTART;TZID=America/Chicago:20240517T130000
DTEND;TZID=America/Chicago:20240517T130000
DTSTAMP:20260424T220114
CREATED:20240314T200449Z
LAST-MODIFIED:20240513T160931Z
UID:10000803-1715950800-1715950800@ebrschools.org
SUMMARY:Arlington Prep Academy Graduation
DESCRIPTION:Click Here to watch the livestream.
URL:https://ebrschools.org/event/arlington-prep-academy-graduation/
LOCATION:Glen Oaks Magnet High School\, 6450 Cedar Grove Drive\, Baton Rouge\, LA\, 70812\, United States
CATEGORIES:Graduation Ceremonies
END:VEVENT
BEGIN:VEVENT
DTSTART;TZID=America/Chicago:20240517T090000
DTEND;TZID=America/Chicago:20240517T090000
DTSTAMP:20260424T220114
CREATED:20240314T195752Z
LAST-MODIFIED:20240513T160642Z
UID:10000802-1715936400-1715936400@ebrschools.org
SUMMARY:EBR Virtual Academy Graduation
DESCRIPTION:Click Here to watch the livestream.
URL:https://ebrschools.org/event/ebr-virtual-academy/
LOCATION:Glen Oaks Magnet High School\, 6450 Cedar Grove Drive\, Baton Rouge\, LA\, 70812\, United States
CATEGORIES:Graduation Ceremonies
END:VEVENT
BEGIN:VEVENT
DTSTART;TZID=America/Chicago:20240508T173000
DTEND;TZID=America/Chicago:20240508T194500
DTSTAMP:20260424T220114
CREATED:20240502T012653Z
LAST-MODIFIED:20240506T125016Z
UID:10000827-1715189400-1715197500@ebrschools.org
SUMMARY:Superintendent Search Community Engagement Meeting Three
DESCRIPTION:Some or all Board Members may attend. \n5:30PM – 6:30PM | Community Engagement Meeting \n6:45PM – 7:45PM | Virtual Fireside for all who were unable to attend in-person session. Stay tuned for the Virtual Meeting Link. \nCommunity Survey Link 🔗: https://bit.ly/ebrstakeholder \nVirtual Meeting Link 🔗: http://cognia.zoom.us/j/99330488773#success
URL:https://ebrschools.org/event/superintendent-search-community-engagement-meeting-three/
LOCATION:Glen Oaks Magnet High School\, 6450 Cedar Grove Drive\, Baton Rouge\, LA\, 70812\, United States
CATEGORIES:Events,School Board,Superintendent Search
END:VEVENT
BEGIN:VEVENT
DTSTART;TZID=America/Chicago:20231016T173000
DTEND;TZID=America/Chicago:20231016T190000
DTSTAMP:20260424T220114
CREATED:20231017T152330Z
LAST-MODIFIED:20231025T160315Z
UID:10000770-1697477400-1697482800@ebrschools.org
SUMMARY:Town Hall: Listen and Learn
DESCRIPTION:“Listen and Learn” | Collective Growth through Community Conversations \nJoin Dr. Sito Narcisse and EBRPSS as we provide a space for stakeholders to offer feedback and solutions.
URL:https://ebrschools.org/event/town-hall-listen-and-learn/
LOCATION:Glen Oaks Magnet High School\, 6450 Cedar Grove Drive\, Baton Rouge\, LA\, 70812\, United States
CATEGORIES:Events,School Board
END:VEVENT
BEGIN:VEVENT
DTSTART;TZID=America/Chicago:20230429T100000
DTEND;TZID=America/Chicago:20230429T130000
DTSTAMP:20260424T220114
CREATED:20230224T191044Z
LAST-MODIFIED:20230224T191044Z
UID:10000620-1682762400-1682773200@ebrschools.org
SUMMARY:Spring Fling Hiring Event
DESCRIPTION:
URL:https://ebrschools.org/event/spring-fling-hiring-event/
LOCATION:Glen Oaks Magnet High School\, 6450 Cedar Grove Drive\, Baton Rouge\, LA\, 70812\, United States
CATEGORIES:Events
END:VEVENT
END:VCALENDAR