BEGIN:VCALENDAR
VERSION:2.0
PRODID:-//EBR Schools - ECPv6.15.20//NONSGML v1.0//EN
CALSCALE:GREGORIAN
METHOD:PUBLISH
X-WR-CALNAME:EBR Schools
X-ORIGINAL-URL:https://ebrschools.org
X-WR-CALDESC:Events for EBR Schools
REFRESH-INTERVAL;VALUE=DURATION:PT1H
X-Robots-Tag:noindex
X-PUBLISHED-TTL:PT1H
BEGIN:VTIMEZONE
TZID:America/Chicago
BEGIN:DAYLIGHT
TZOFFSETFROM:-0600
TZOFFSETTO:-0500
TZNAME:CDT
DTSTART:20210314T080000
END:DAYLIGHT
BEGIN:STANDARD
TZOFFSETFROM:-0500
TZOFFSETTO:-0600
TZNAME:CST
DTSTART:20211107T070000
END:STANDARD
BEGIN:DAYLIGHT
TZOFFSETFROM:-0600
TZOFFSETTO:-0500
TZNAME:CDT
DTSTART:20220313T080000
END:DAYLIGHT
BEGIN:STANDARD
TZOFFSETFROM:-0500
TZOFFSETTO:-0600
TZNAME:CST
DTSTART:20221106T070000
END:STANDARD
BEGIN:DAYLIGHT
TZOFFSETFROM:-0600
TZOFFSETTO:-0500
TZNAME:CDT
DTSTART:20230312T080000
END:DAYLIGHT
BEGIN:STANDARD
TZOFFSETFROM:-0500
TZOFFSETTO:-0600
TZNAME:CST
DTSTART:20231105T070000
END:STANDARD
BEGIN:DAYLIGHT
TZOFFSETFROM:-0600
TZOFFSETTO:-0500
TZNAME:CDT
DTSTART:20240310T080000
END:DAYLIGHT
BEGIN:STANDARD
TZOFFSETFROM:-0500
TZOFFSETTO:-0600
TZNAME:CST
DTSTART:20241103T070000
END:STANDARD
BEGIN:DAYLIGHT
TZOFFSETFROM:-0600
TZOFFSETTO:-0500
TZNAME:CDT
DTSTART:20250309T080000
END:DAYLIGHT
BEGIN:STANDARD
TZOFFSETFROM:-0500
TZOFFSETTO:-0600
TZNAME:CST
DTSTART:20251102T070000
END:STANDARD
BEGIN:DAYLIGHT
TZOFFSETFROM:-0600
TZOFFSETTO:-0500
TZNAME:CDT
DTSTART:20260308T080000
END:DAYLIGHT
BEGIN:STANDARD
TZOFFSETFROM:-0500
TZOFFSETTO:-0600
TZNAME:CST
DTSTART:20261101T070000
END:STANDARD
END:VTIMEZONE
BEGIN:VEVENT
DTSTART;TZID=America/Chicago:20250923T100000
DTEND;TZID=America/Chicago:20250923T113000
DTSTAMP:20260422T183228
CREATED:20250821T150854Z
LAST-MODIFIED:20250821T150930Z
UID:10001067-1758621600-1758627000@ebrschools.org
SUMMARY:Substitute Teacher Hiring Event
DESCRIPTION:Join us for a substitute teacher hiring event at the Instructional Resource Center. We are looking for substitute teachers who are eager to work with our students. Please pre-apply at ebrschools.org/careers by submitting the following documents: \n\nUpdated professional resume\nTwo professional references\nHigh school diploma and/or official college transcript\nTeaching certificate (if applicable)
URL:https://ebrschools.org/event/substitute-teacher-hiring-event-2/2025-09-23/
LOCATION:Instructional Resource Center\, 1022 S. Foster Drive\, Baton Rouge\, LA\, 70806\, United States
CATEGORIES:Recruitment and Retention
ATTACH;FMTTYPE=image/png:https://ebrschools.org/wp-content/uploads/2025/06/Sub-Hiring-Event-Calendar-Feature.png
END:VEVENT
BEGIN:VEVENT
DTSTART;TZID=America/Chicago:20250911T140000
DTEND;TZID=America/Chicago:20250911T153000
DTSTAMP:20260422T183228
CREATED:20250821T150854Z
LAST-MODIFIED:20250821T150930Z
UID:10001066-1757599200-1757604600@ebrschools.org
SUMMARY:Substitute Teacher Hiring Event
DESCRIPTION:Join us for a substitute teacher hiring event at the Instructional Resource Center. We are looking for substitute teachers who are eager to work with our students. Please pre-apply at ebrschools.org/careers by submitting the following documents: \n\nUpdated professional resume\nTwo professional references\nHigh school diploma and/or official college transcript\nTeaching certificate (if applicable)
URL:https://ebrschools.org/event/substitute-teacher-hiring-event-2/2025-09-11/
LOCATION:Instructional Resource Center\, 1022 S. Foster Drive\, Baton Rouge\, LA\, 70806\, United States
CATEGORIES:Recruitment and Retention
ATTACH;FMTTYPE=image/png:https://ebrschools.org/wp-content/uploads/2025/06/Sub-Hiring-Event-Calendar-Feature.png
END:VEVENT
BEGIN:VEVENT
DTSTART;TZID=America/Chicago:20250826T100000
DTEND;TZID=America/Chicago:20250826T113000
DTSTAMP:20260422T183228
CREATED:20250821T150854Z
LAST-MODIFIED:20250821T150930Z
UID:10001065-1756202400-1756207800@ebrschools.org
SUMMARY:Substitute Teacher Hiring Event
DESCRIPTION:Join us for a substitute teacher hiring event at the Instructional Resource Center. We are looking for substitute teachers who are eager to work with our students. Please pre-apply at ebrschools.org/careers by submitting the following documents: \n\nUpdated professional resume\nTwo professional references\nHigh school diploma and/or official college transcript\nTeaching certificate (if applicable)
URL:https://ebrschools.org/event/substitute-teacher-hiring-event-2/2025-08-26/
LOCATION:Instructional Resource Center\, 1022 S. Foster Drive\, Baton Rouge\, LA\, 70806\, United States
CATEGORIES:Recruitment and Retention
ATTACH;FMTTYPE=image/png:https://ebrschools.org/wp-content/uploads/2025/06/Sub-Hiring-Event-Calendar-Feature.png
END:VEVENT
BEGIN:VEVENT
DTSTART;TZID=America/Chicago:20250812T140000
DTEND;TZID=America/Chicago:20250812T160000
DTSTAMP:20260422T183228
CREATED:20250616T154423Z
LAST-MODIFIED:20250701T194703Z
UID:10001055-1755007200-1755014400@ebrschools.org
SUMMARY:Substitute Hiring Event
DESCRIPTION:Please join us for our upcoming Substitute Teacher Hiring Event! We are looking for substitute teachers that are eager to work with our students. Please pre-apply at https://ebrschools.org/careers and submit the following documents: updated resume\, two professional references\, high school diploma and/or official college transcript\, and a teaching certificate (if applicable). \n 
URL:https://ebrschools.org/event/substitute-hiring-event-3/2025-08-12/
LOCATION:Instructional Resource Center\, 1022 S. Foster Drive\, Baton Rouge\, LA\, 70806\, United States
CATEGORIES:Recruitment and Retention
ATTACH;FMTTYPE=image/png:https://ebrschools.org/wp-content/uploads/2025/06/Sub-Hiring-Event-Calendar-Feature.png
END:VEVENT
BEGIN:VEVENT
DTSTART;TZID=America/Chicago:20250723T140000
DTEND;TZID=America/Chicago:20250723T160000
DTSTAMP:20260422T183228
CREATED:20250616T154423Z
LAST-MODIFIED:20250701T194703Z
UID:10001054-1753279200-1753286400@ebrschools.org
SUMMARY:Substitute Hiring Event
DESCRIPTION:Please join us for our upcoming Substitute Teacher Hiring Event! We are looking for substitute teachers that are eager to work with our students. Please pre-apply at https://ebrschools.org/careers and submit the following documents: updated resume\, two professional references\, high school diploma and/or official college transcript\, and a teaching certificate (if applicable). \n 
URL:https://ebrschools.org/event/substitute-hiring-event-3/2025-07-23/
LOCATION:Instructional Resource Center\, 1022 S. Foster Drive\, Baton Rouge\, LA\, 70806\, United States
CATEGORIES:Recruitment and Retention
ATTACH;FMTTYPE=image/png:https://ebrschools.org/wp-content/uploads/2025/06/Sub-Hiring-Event-Calendar-Feature.png
END:VEVENT
BEGIN:VEVENT
DTSTART;TZID=America/Chicago:20250715T120000
DTEND;TZID=America/Chicago:20250715T170000
DTSTAMP:20260422T183228
CREATED:20250710T184343Z
LAST-MODIFIED:20250710T184406Z
UID:10001058-1752580800-1752598800@ebrschools.org
SUMMARY:A Winning Connection - Mid Summer Career Fair
DESCRIPTION:Join us July 15\, 2025\, from 12PM – 5PM at the Instructional Resource Center for our mid-summer career fair. Apply for teaching positions at Capitol Elementary\, Capitol High\, Tara High\, Istrouma High\, Melrose Elementary\, Claiborne Elementary\, Merrydale Elementary\, Scotlandville High\, and Northeast High. Apply today at https://ebrschools.org/careers.
URL:https://ebrschools.org/event/a-winning-connection-mid-summer-career-fair/
LOCATION:Instructional Resource Center\, 1022 S. Foster Drive\, Baton Rouge\, LA\, 70806\, United States
CATEGORIES:Recruitment and Retention
ATTACH;FMTTYPE=image/png:https://ebrschools.org/wp-content/uploads/2025/07/HR-Career-Fair-Calendar-Feature.png
END:VEVENT
BEGIN:VEVENT
DTSTART;TZID=America/Chicago:20250708T140000
DTEND;TZID=America/Chicago:20250708T160000
DTSTAMP:20260422T183228
CREATED:20250616T154423Z
LAST-MODIFIED:20250701T194703Z
UID:10001053-1751983200-1751990400@ebrschools.org
SUMMARY:Substitute Hiring Event
DESCRIPTION:Please join us for our upcoming Substitute Teacher Hiring Event! We are looking for substitute teachers that are eager to work with our students. Please pre-apply at https://ebrschools.org/careers and submit the following documents: updated resume\, two professional references\, high school diploma and/or official college transcript\, and a teaching certificate (if applicable). \n 
URL:https://ebrschools.org/event/substitute-hiring-event-3/2025-07-08/
LOCATION:Instructional Resource Center\, 1022 S. Foster Drive\, Baton Rouge\, LA\, 70806\, United States
CATEGORIES:Recruitment and Retention
ATTACH;FMTTYPE=image/png:https://ebrschools.org/wp-content/uploads/2025/06/Sub-Hiring-Event-Calendar-Feature.png
END:VEVENT
BEGIN:VEVENT
DTSTART;TZID=America/Chicago:20250625T140000
DTEND;TZID=America/Chicago:20250625T160000
DTSTAMP:20260422T183228
CREATED:20250616T154423Z
LAST-MODIFIED:20250701T194703Z
UID:10001052-1750860000-1750867200@ebrschools.org
SUMMARY:Substitute Hiring Event
DESCRIPTION:Please join us for our upcoming Substitute Teacher Hiring Event! We are looking for substitute teachers that are eager to work with our students. Please pre-apply at https://ebrschools.org/careers and submit the following documents: updated resume\, two professional references\, high school diploma and/or official college transcript\, and a teaching certificate (if applicable). \n 
URL:https://ebrschools.org/event/substitute-hiring-event-3/2025-06-25/
LOCATION:Instructional Resource Center\, 1022 S. Foster Drive\, Baton Rouge\, LA\, 70806\, United States
CATEGORIES:Recruitment and Retention
ATTACH;FMTTYPE=image/png:https://ebrschools.org/wp-content/uploads/2025/06/Sub-Hiring-Event-Calendar-Feature.png
END:VEVENT
BEGIN:VEVENT
DTSTART;TZID=America/Chicago:20250527T140000
DTEND;TZID=America/Chicago:20250527T160000
DTSTAMP:20260422T183228
CREATED:20250512T192659Z
LAST-MODIFIED:20250512T192659Z
UID:10001002-1748354400-1748361600@ebrschools.org
SUMMARY:Substitute Hiring Event
DESCRIPTION:Join us for a substitute teacher hiring event at the Instructional Resource Center! We are looking for substitute teachers who are eager to work with our students. Please pre-apply at https://ebrschools.org/careers and submitting the documents below through the job posting. \n\nUpdated professional resume\nTwo professional references\nHigh school diploma and/or official college transcripts\nTeaching certificate (if applicable)
URL:https://ebrschools.org/event/substitute-hiring-event-2/2025-05-27/
LOCATION:Instructional Resource Center\, 1022 S. Foster Drive\, Baton Rouge\, LA\, 70806\, United States
CATEGORIES:Recruitment and Retention
ATTACH;FMTTYPE=image/jpeg:https://ebrschools.org/wp-content/uploads/2025/02/HR-Sub-Hiring-Event-Calendar-Feature.jpg
END:VEVENT
BEGIN:VEVENT
DTSTART;TZID=America/Chicago:20250515T140000
DTEND;TZID=America/Chicago:20250515T160000
DTSTAMP:20260422T183228
CREATED:20250512T192659Z
LAST-MODIFIED:20250512T192659Z
UID:10001001-1747317600-1747324800@ebrschools.org
SUMMARY:Substitute Hiring Event
DESCRIPTION:Join us for a substitute teacher hiring event at the Instructional Resource Center! We are looking for substitute teachers who are eager to work with our students. Please pre-apply at https://ebrschools.org/careers and submitting the documents below through the job posting. \n\nUpdated professional resume\nTwo professional references\nHigh school diploma and/or official college transcripts\nTeaching certificate (if applicable)
URL:https://ebrschools.org/event/substitute-hiring-event-2/2025-05-15/
LOCATION:Instructional Resource Center\, 1022 S. Foster Drive\, Baton Rouge\, LA\, 70806\, United States
CATEGORIES:Recruitment and Retention
ATTACH;FMTTYPE=image/jpeg:https://ebrschools.org/wp-content/uploads/2025/02/HR-Sub-Hiring-Event-Calendar-Feature.jpg
END:VEVENT
BEGIN:VEVENT
DTSTART;TZID=America/Chicago:20250429T143000
DTEND;TZID=America/Chicago:20250429T160000
DTSTAMP:20260422T183228
CREATED:20250402T131819Z
LAST-MODIFIED:20250402T131952Z
UID:10000998-1745937000-1745942400@ebrschools.org
SUMMARY:Substitute Hiring Event
DESCRIPTION:Join us for a substitute teacher hiring event on April 29\, 2025 from 2:30PM – 4:00PM at the Instructional Resource Center! We are looking for substitute teachers who are eager to work with our students. Please pre-apply at https://ebrschools.org/careers and submitting the documents below through the job posting. \n\nUpdated professional resume\nTwo professional references\nHigh school diploma and/or official college transcripts\nTeaching certificate (if applicable)\n\n 
URL:https://ebrschools.org/event/substitute-hiring-event/
LOCATION:Instructional Resource Center\, 1022 S. Foster Drive\, Baton Rouge\, LA\, 70806\, United States
CATEGORIES:Events,Recruitment and Retention
ATTACH;FMTTYPE=image/jpeg:https://ebrschools.org/wp-content/uploads/2025/02/HR-Sub-Hiring-Event-Calendar-Feature.jpg
END:VEVENT
BEGIN:VEVENT
DTSTART;TZID=America/Chicago:20250415T160000
DTEND;TZID=America/Chicago:20250415T160000
DTSTAMP:20260422T183228
CREATED:20250402T202809Z
LAST-MODIFIED:20250403T232643Z
UID:10000999-1744732800-1744732800@ebrschools.org
SUMMARY:Board Workshop: Realignment
DESCRIPTION:Board Workshop to be held on April 15\, 2025\, at 4:00 PM at the IRC.
URL:https://ebrschools.org/event/board-workshop-4-15-25/
LOCATION:Instructional Resource Center\, 1022 S. Foster Drive\, Baton Rouge\, LA\, 70806\, United States
CATEGORIES:School Board
ATTACH;FMTTYPE=image/png:https://ebrschools.org/wp-content/uploads/2024/06/Cal-Feature-Workshop.png
END:VEVENT
BEGIN:VEVENT
DTSTART;TZID=America/Chicago:20250327T100000
DTEND;TZID=America/Chicago:20250327T113000
DTSTAMP:20260422T183228
CREATED:20250225T172044Z
LAST-MODIFIED:20250225T172044Z
UID:10000992-1743069600-1743075000@ebrschools.org
SUMMARY:Substitute Teacher Hiring Event
DESCRIPTION:Join us for a substitute teacher hiring event at the Instructional Resource Center. We are looking for substitute teachers who are eager to work with our students. Please pre-apply at ebrschools.org/careers and submit the following documents: updated resume\, two professional references\, high school diploma and/or official college transcripts\, teaching certificate (if applicable).
URL:https://ebrschools.org/event/substitute-teacher-hiring-event-3-27-25/
LOCATION:Instructional Resource Center\, 1022 S. Foster Drive\, Baton Rouge\, LA\, 70806\, United States
CATEGORIES:Events,Recruitment and Retention
ATTACH;FMTTYPE=image/jpeg:https://ebrschools.org/wp-content/uploads/2025/02/HR-Sub-Hiring-Event-Calendar-Feature.jpg
END:VEVENT
BEGIN:VEVENT
DTSTART;TZID=America/Chicago:20250310T140000
DTEND;TZID=America/Chicago:20250310T153000
DTSTAMP:20260422T183228
CREATED:20250225T171911Z
LAST-MODIFIED:20250225T171911Z
UID:10000991-1741615200-1741620600@ebrschools.org
SUMMARY:Substitute Teacher Hiring Event
DESCRIPTION:Join us for a substitute teacher hiring event at the Instructional Resource Center. We are looking for substitute teachers who are eager to work with our students. Please pre-apply at ebrschools.org/careers and submit the following documents: updated resume\, two professional references\, high school diploma and/or official college transcripts\, teaching certificate (if applicable).
URL:https://ebrschools.org/event/substitute-teacher-hiring-event/
LOCATION:Instructional Resource Center\, 1022 S. Foster Drive\, Baton Rouge\, LA\, 70806\, United States
CATEGORIES:Events,Recruitment and Retention
ATTACH;FMTTYPE=image/jpeg:https://ebrschools.org/wp-content/uploads/2025/02/HR-Sub-Hiring-Event-Calendar-Feature.jpg
END:VEVENT
BEGIN:VEVENT
DTSTART;TZID=America/Chicago:20250226T153000
DTEND;TZID=America/Chicago:20250226T163000
DTSTAMP:20260422T183228
CREATED:20250217T160442Z
LAST-MODIFIED:20250217T160442Z
UID:10000985-1740583800-1740587400@ebrschools.org
SUMMARY:Connecting 2 Succeed
DESCRIPTION:Join us for Connecting 2 Succeed: an EBRPSS hiring event! We are in search of qualified student teachers. This event will take place February 26\, 2025\, from 3:30pm – 4:30pm at the Instructional Resource Center. Please pre-apply at https://ebrschools.org/careers.
URL:https://ebrschools.org/event/connecting-2-succeed-4/
LOCATION:Instructional Resource Center\, 1022 S. Foster Drive\, Baton Rouge\, LA\, 70806\, United States
CATEGORIES:Events,Recruitment and Retention
ATTACH;FMTTYPE=image/webp:https://ebrschools.org/wp-content/uploads/2025/02/HR-Connecting-2-Succeed-Web-Featured-Images-Calendar.webp
END:VEVENT
BEGIN:VEVENT
DTSTART;TZID=America/Chicago:20250114T160000
DTEND;TZID=America/Chicago:20250114T180000
DTSTAMP:20260422T183228
CREATED:20250108T132134Z
LAST-MODIFIED:20250108T132134Z
UID:10000975-1736870400-1736877600@ebrschools.org
SUMMARY:Board Workshop
DESCRIPTION:Board Workshop to be held on January 14\, 2025 at the Instructional Resource Center from 4p.m. – 6p.m. Some or all Board members may attend.
URL:https://ebrschools.org/event/board-workshop-6/
LOCATION:Instructional Resource Center\, 1022 S. Foster Drive\, Baton Rouge\, LA\, 70806\, United States
CATEGORIES:School Board
ATTACH;FMTTYPE=image/png:https://ebrschools.org/wp-content/uploads/2024/06/Cal-Feature-Workshop.png
END:VEVENT
BEGIN:VEVENT
DTSTART;TZID=America/Chicago:20241214T100000
DTEND;TZID=America/Chicago:20241214T120000
DTSTAMP:20260422T183228
CREATED:20241205T143514Z
LAST-MODIFIED:20241212T140423Z
UID:10000971-1734170400-1734177600@ebrschools.org
SUMMARY:Midyear HR Hiring Event
DESCRIPTION:The Department of Human Resources invites you to the EBR Midyear Hiring Event on Saturday\, December 14\, 2024 from 10AM to 12PM at the IRC (1022 S. Foster Drive).
URL:https://ebrschools.org/event/midyear-hr-hiring-event/
LOCATION:Instructional Resource Center\, 1022 S. Foster Drive\, Baton Rouge\, LA\, 70806\, United States
CATEGORIES:Events
ATTACH;FMTTYPE=image/png:https://ebrschools.org/wp-content/uploads/2024/12/HR-Midyear-Hiring-Event-Cal-Feature.png
END:VEVENT
BEGIN:VEVENT
DTSTART;TZID=America/Chicago:20241111T160000
DTEND;TZID=America/Chicago:20241111T180000
DTSTAMP:20260422T183228
CREATED:20241107T154038Z
LAST-MODIFIED:20241107T154038Z
UID:10000966-1731340800-1731348000@ebrschools.org
SUMMARY:Board Workshop
DESCRIPTION:Board Workshop to be held on November 11\, 2024\,  from 4:00 p.m. – 6:00p.m. at the IRC. Some or all Board members may attend.
URL:https://ebrschools.org/event/board-workshop-5/
LOCATION:Instructional Resource Center\, 1022 S. Foster Drive\, Baton Rouge\, LA\, 70806\, United States
CATEGORIES:School Board
ATTACH;FMTTYPE=image/png:https://ebrschools.org/wp-content/uploads/2024/06/Cal-Feature-Workshop.png
END:VEVENT
BEGIN:VEVENT
DTSTART;TZID=America/Chicago:20241005T090000
DTEND;TZID=America/Chicago:20241005T153000
DTSTAMP:20260422T183228
CREATED:20240930T194818Z
LAST-MODIFIED:20240930T195624Z
UID:10000938-1728118800-1728142200@ebrschools.org
SUMMARY:Board Retreat
DESCRIPTION:Board Retreat to be held on October 5\, 2024 from 9:00AM – 3:30PM in the IRC (1022 South Foster Drive).
URL:https://ebrschools.org/event/board-retreat-6/
LOCATION:Instructional Resource Center\, 1022 S. Foster Drive\, Baton Rouge\, LA\, 70806\, United States
CATEGORIES:School Board
ATTACH;FMTTYPE=image/webp:https://ebrschools.org/wp-content/uploads/2024/09/Board-Retreat-Calendar-Feature.webp
END:VEVENT
BEGIN:VEVENT
DTSTART;TZID=America/Chicago:20240507T113000
DTEND;TZID=America/Chicago:20240507T123000
DTSTAMP:20260422T183228
CREATED:20240502T011614Z
LAST-MODIFIED:20240506T124953Z
UID:10000830-1715081400-1715085000@ebrschools.org
SUMMARY:Business Community Engagement Meeting
DESCRIPTION:Some or all Board Members may attend. \nCLICK HERE TO RSVP \nCLICK HERE TO COMPLETE THE STAKEHOLDER SURVEY
URL:https://ebrschools.org/event/business-community-engagement-meeting/
LOCATION:Instructional Resource Center\, 1022 S. Foster Drive\, Baton Rouge\, LA\, 70806\, United States
CATEGORIES:Events,School Board,Superintendent Search
END:VEVENT
BEGIN:VEVENT
DTSTART;TZID=America/Chicago:20230426T160000
DTEND;TZID=America/Chicago:20230426T180000
DTSTAMP:20260422T183228
CREATED:20230424T200516Z
LAST-MODIFIED:20230424T200516Z
UID:10000625-1682524800-1682532000@ebrschools.org
SUMMARY:2023 Continuing Educational Opportunities Fair
DESCRIPTION:
URL:https://ebrschools.org/event/2023-continuing-educational-opportunities-fair/
LOCATION:Instructional Resource Center\, 1022 S. Foster Drive\, Baton Rouge\, LA\, 70806\, United States
CATEGORIES:Events
END:VEVENT
BEGIN:VEVENT
DTSTART;TZID=America/Chicago:20230330T090000
DTEND;TZID=America/Chicago:20230330T120000
DTSTAMP:20260422T183228
CREATED:20230306T181153Z
LAST-MODIFIED:20230307T165920Z
UID:10000622-1680166800-1680177600@ebrschools.org
SUMMARY:2023 Student Diversity Fair
DESCRIPTION:JESSI (Jobs for ESS Students Initiative) gives students with IEPs the opportunity to be employed by the East Baton Rouge Parish School System as a part-time employee. Hired students will be able to work for 240 hours a year with a pay rate of $9.70. Please contact your ESS teacher if you are interested in attending the JESSI Jobs Jamboree. \nFINAL_JESSI Jobs Jamboree Flyer
URL:https://ebrschools.org/event/2023-student-diversity-fair/
LOCATION:Instructional Resource Center\, 1022 S. Foster Drive\, Baton Rouge\, LA\, 70806\, United States
CATEGORIES:Events
END:VEVENT
BEGIN:VEVENT
DTSTART;TZID=America/Chicago:20230105T163000
DTEND;TZID=America/Chicago:20230105T170000
DTSTAMP:20260422T183228
CREATED:20221215T193133Z
LAST-MODIFIED:20230104T200408Z
UID:10000607-1672936200-1672938000@ebrschools.org
SUMMARY:Swearing-In Ceremony
DESCRIPTION:Swearing-In Ceremony to be held on January 5\, 2023\, at 4:30 p.m. at the IRC.
URL:https://ebrschools.org/event/swearing-in-ceremony/
LOCATION:Instructional Resource Center\, 1022 S. Foster Drive\, Baton Rouge\, LA\, 70806\, United States
CATEGORIES:Events,School Board
END:VEVENT
BEGIN:VEVENT
DTSTART;TZID=America/Chicago:20220504T090000
DTEND;TZID=America/Chicago:20220504T093000
DTSTAMP:20260422T183228
CREATED:20220504T120435Z
LAST-MODIFIED:20220908T144924Z
UID:10000537-1651654800-1651656600@ebrschools.org
SUMMARY:Board Retreat
DESCRIPTION:Board Retreat to be held on May 20\, 2022\, at 9:00 am at the Instructional Resource Center (IRC).
URL:https://ebrschools.org/event/board-retreat/
LOCATION:Instructional Resource Center\, 1022 S. Foster Drive\, Baton Rouge\, LA\, 70806\, United States
END:VEVENT
BEGIN:VEVENT
DTSTART;TZID=America/Chicago:20220326T090000
DTEND;TZID=America/Chicago:20220326T110000
DTSTAMP:20260422T183228
CREATED:20220308T051055Z
LAST-MODIFIED:20220908T152025Z
UID:10000529-1648285200-1648292400@ebrschools.org
SUMMARY:Redistricting Public Forum
DESCRIPTION:Some or all Board Members may attend. This is not an official meeting of the board.
URL:https://ebrschools.org/event/redistricting-public-forum/
LOCATION:Instructional Resource Center\, 1022 S. Foster Drive\, Baton Rouge\, LA\, 70806\, United States
END:VEVENT
BEGIN:VEVENT
DTSTART;TZID=America/Chicago:20220226T030000
DTEND;TZID=America/Chicago:20220226T050000
DTSTAMP:20260422T183228
CREATED:20220125T005910Z
LAST-MODIFIED:20220201T212543Z
UID:10000512-1645844400-1645851600@ebrschools.org
SUMMARY:Redistricting Public Forum
DESCRIPTION:This is not an official Meeting of the Board. Some or all Board Members may attend.
URL:https://ebrschools.org/event/public-forum-3/
LOCATION:Instructional Resource Center\, 1022 S. Foster Drive\, Baton Rouge\, LA\, 70806\, United States
END:VEVENT
END:VCALENDAR